BEGIN:VCALENDAR
VERSION:2.0
PRODID:-//ChamberMaster//Event Calendar 2.0//EN
METHOD:PUBLISH
X-PUBLISHED-TTL:P3D
REFRESH-INTERVAL:P3D
CALSCALE:GREGORIAN
BEGIN:VEVENT
DTSTART:20200902T190000Z
DTEND:20200902T193000Z
X-MICROSOFT-CDO-ALLDAYEVENT:FALSE
SUMMARY:Back to Business: Economics
DESCRIPTION:Back to Business: Economic Insights\, presented by Delta Community Credit Union\n\n\n\nJoin the Newnan-Coweta Chamber and Senior Vice President and the Chief Economist for the Metro Atlanta Chamber\, Tom Cunningham\, for insights and trends as Georgia continues to recover from the COVID-19 pandemic. \n\n\n\nLearn about growing industries and those that may experience a slower recovery\, as well as projections for GDP\, unemployment\, and potential remedies for persistent health concerns - a primary economic driver.
X-ALT-DESC;FMTTYPE=text/html:<span style="font-size:14px\;"><span style="font-family:tahoma\;">Back to Business: Economic Insights\, presented by Delta Community Credit Union<br />\n<br />\nJoin the Newnan-Coweta Chamber and&nbsp\;Senior Vice President and the Chief Economist for the Metro Atlanta Chamber\, Tom Cunningham\, for insights and trends as Georgia continues to recover from the COVID-19 pandemic.&nbsp\;<br />\n<br />\nLearn about growing industries and those that may experience a slower recovery\, as well as projections for GDP\, unemployment\, and potential remedies for persistent health concerns - a primary economic driver.</span></span>
LOCATION:Virtual Registration is required via the following link: https://zoom.us/meeting/register/tJYlde-gqz0rH9PKBVRA2ZHvKzCbvlENThcJ
UID:e.468.16777
SEQUENCE:3
DTSTAMP:20260425T233923Z
URL:https://www.newnancowetachamber.org/events/details/back-to-business-economics-16777
END:VEVENT

END:VCALENDAR
