BEGIN:VCALENDAR
VERSION:2.0
PRODID:-//ChamberMaster//Event Calendar 2.0//EN
METHOD:PUBLISH
X-PUBLISHED-TTL:P3D
REFRESH-INTERVAL:P3D
CALSCALE:GREGORIAN
BEGIN:VEVENT
DTSTART:20200812T140000Z
DTEND:20200812T144500Z
X-MICROSOFT-CDO-ALLDAYEVENT:FALSE
SUMMARY:Back to Business: Glenn Shepard | The Psychology of Managing Employees
DESCRIPTION:"How to Manage Problem Employees & Handle Difficult People" with management expert Glenn Shepard.\n\n\n\nJoin the Newnan-Coweta Chamber\, presenting sponsor Delta Community Credit Union\, and internationally-acclaimed speaker Glenn Shepard as he shares his front-line management training\, which is now ranked the #1 front-line management training in America. This 45-minute webinar contains high-level management and psychology content similar to what's taught in MBA level classes at top business schools\n\n\n\nThis is a SHRM and HRCI accredited webinar and participants will receive professional continuing education credit and a certificate of completion for attending.\n\n\n\nFree for Chamber members\; Click here to register. \n\n$199 for non-members\; Click here to register.
X-ALT-DESC;FMTTYPE=text/html:&quot\;How to Manage Problem Employees &amp\; Handle Difficult People&quot\; with&nbsp\;management expert Glenn Shepard.<br />\n<br />\nJoin the Newnan-Coweta Chamber\, presenting sponsor Delta Community Credit Union\, and internationally-acclaimed speaker Glenn Shepard as he shares his front-line management training\, which is now ranked the #1 front-line management training in America.&nbsp\;This 45-minute webinar contains high-level management and psychology content similar to what&#39\;s taught in MBA level classes at top business schools<br />\n<br />\nThis is a SHRM and HRCI accredited webinar and participants will receive professional continuing education credit and a certificate of completion for attending.<br />\n<br />\nFree for Chamber members\; <u><a href="https://register.gotowebinar.com/register/3669932727544820492"><span style="color:#B22222\;">Click here to register</span></a></u>.&nbsp\;<br />\n$199 for non-members\; <u><a href="mailto:susan@newnancowetachamber.org"><span style="color:#B22222\;">Click here to register</span></a></u>.&nbsp\;<br />\n&nbsp\;
LOCATION:Virtual
UID:e.468.16721
SEQUENCE:3
DTSTAMP:20260426T013135Z
URL:https://www.newnancowetachamber.org/events/details/back-to-business-glenn-shepard-the-psychology-of-managing-employees-16721
END:VEVENT

END:VCALENDAR
