BEGIN:VCALENDAR
VERSION:2.0
PRODID:-//ChamberMaster//Event Calendar 2.0//EN
METHOD:PUBLISH
X-PUBLISHED-TTL:P3D
REFRESH-INTERVAL:P3D
CALSCALE:GREGORIAN
BEGIN:VEVENT
DTSTART:20200805T190000Z
DTEND:20200805T193000Z
X-MICROSOFT-CDO-ALLDAYEVENT:FALSE
SUMMARY:Back to Business: Legislative Updates\, CARES Act Expansion\, Equality of Opportunity\, and more
DESCRIPTION:Join the Newnan-Coweta Chamber and U.S. Chamber's Moore Hallmark\, Vice President\, Regional Affairs and Advocacy\, as we learn more about the efforts of the U.S. Congress to advance national COVID relief efforts\, evaluate continued unemployment benefits\, and more. We'll also talk a little bit about the Newnan-Coweta Chamber's partnership with the U.S. Chamber in advancing Equality of Opportunity in Coweta and beyond.\n\n \n\nClick here to register
X-ALT-DESC;FMTTYPE=text/html:<span style="font-family:tahoma\;"><span style="color:#403F42\;"><span style="font-size:10.5pt\;">Join the Newnan-Coweta Chamber and U.S. Chamber&#39\;s Moore Hallmark\, Vice President\, Regional Affairs and Advocacy\, as we learn more about the efforts of the U.S. Congress to advance national COVID relief efforts\, evaluate continued unemployment benefits\, and more. We&#39\;ll also talk a little bit about the Newnan-Coweta Chamber&#39\;s partnership with the U.S. Chamber in advancing Equality of Opportunity in Coweta and beyond.</span></span><br />\n&nbsp\;<br />\n<span style="color:#403F42\;"><span style="font-size:9.0pt\;"><a href="http://r20.rs6.net/tn.jsp?f=001unUl6raOJimR7ZOy2dThPgUUm0FBxlzrVS_53GdJSGyTrTaqAK0N0IhwMzWKKW84uAKevwStKitPEGSO6kbyHfp08qhZBnN8wMs8X4NdpzDhH_lF5iqfKOsXlCYK8b6QH5DucCkhmnXDjsdjcczVfpImeH1A55V2O1oioXB8VvaA37mA8LWlcTxHQZCHIqIKLrWvAN0IELzRnqtjfQRptQ==&amp\;c=lp1_vRYE6P-VA0g_i4kmdF8hsXM123UGjwHhUfEGL0AYgP8bfEZCRA==&amp\;ch=5bb7ojqng2VOYSAxy8m4mIbq3IbwIbRoFEWsvoOJ3xUeSTYTaBm-Yw==" target="_blank"><span style="color:#A60000\;"><span style="font-size:10.5pt\;">Click here to register</span></span></a></span></span></span>
LOCATION:Virtual - Register for Zoom link
UID:e.468.16720
SEQUENCE:3
DTSTAMP:20260426T013038Z
URL:https://www.newnancowetachamber.org/events/details/back-to-business-legislative-updates-cares-act-expansion-equality-of-opportunity-and-more-16720
END:VEVENT

END:VCALENDAR
