BEGIN:VCALENDAR
VERSION:2.0
PRODID:-//ChamberMaster//Event Calendar 2.0//EN
METHOD:PUBLISH
X-PUBLISHED-TTL:P3D
REFRESH-INTERVAL:P3D
CALSCALE:GREGORIAN
BEGIN:VEVENT
DTSTART:20200612T190000Z
DTEND:20200612T193000Z
X-MICROSOFT-CDO-ALLDAYEVENT:FALSE
SUMMARY:Back-to-Business: The New West Georgia Economy
DESCRIPTION:Join the Newnan-Coweta Chamber and Kenneth Shiver\, Southern Company's Chief Economist and Director of Planning and Regulatory Support\, for insights and trends following the economic shut-down and phased reopening in the wake of the COVID-19 pandemic.\n\n \n\nLearn more about what our region might expect as businesses endeavor to find a new normal...and what a new normal might look like for Georgia's economy.\n\n \n\nRegistration is required: https://zoom.us/meeting/register/tJUpdO2qqDIiHtXEPOkGLUZ3e18T9xT-lyx
X-ALT-DESC;FMTTYPE=text/html:Join the Newnan-Coweta Chamber and Kenneth Shiver\, Southern Company&#39\;s Chief Economist and Director of Planning and Regulatory Support\, for insights and trends following the economic shut-down and phased reopening in the wake of the COVID-19 pandemic.<br />\n&nbsp\;<br />\nLearn more about what our region might expect as businesses endeavor to find a new normal...and what a new normal might look like for Georgia&#39\;s economy.<br />\n&nbsp\;<br />\nRegistration is required: <a href="https://zoom.us/meeting/register/tJUpdO2qqDIiHtXEPOkGLUZ3e18T9xT-lyxG">https://zoom.us/meeting/register/tJUpdO2qqDIiHtXEPOkGLUZ3e18T9xT-lyx</a>
LOCATION:Virtual: https://zoom.us/meeting/register/tJUpdO2qqDIiHtXEPOkGLUZ3e18T9xT-lyxG
UID:e.468.15960
SEQUENCE:3
DTSTAMP:20260426T042556Z
URL:https://www.newnancowetachamber.org/events/details/back-to-business-the-new-west-georgia-economy-15960
END:VEVENT

END:VCALENDAR
