BEGIN:VCALENDAR
VERSION:2.0
PRODID:-//ChamberMaster//Event Calendar 2.0//EN
METHOD:PUBLISH
X-PUBLISHED-TTL:P3D
REFRESH-INTERVAL:P3D
CALSCALE:GREGORIAN
BEGIN:VEVENT
DTSTART:20200603T190000Z
DTEND:20200603T193000Z
X-MICROSOFT-CDO-ALLDAYEVENT:FALSE
SUMMARY:Back to Business: Workplace Best Practices
DESCRIPTION:Join us for our weekly Back to Business virtual round-table series featuring best practices\, safety guidelines and resources\, recovery and resiliency measures\, and more as Coweta adapts to doing business in a post-pandemic environment.\n\n\n\nRegistration is required.
X-ALT-DESC;FMTTYPE=text/html:<span style="color: rgb(35\, 35\, 51)\; font-family: Lato\, Helvetica\, Arial\; font-size: 14px\;">Join us for our weekly Back to Business virtual round-table series featuring best practices\, safety guidelines and resources\, recovery and resiliency measures\, and more as Coweta adapts to doing business in a post-pandemic environment.</span><br style="box-sizing: border-box\; color: rgb(35\, 35\, 51)\; font-family: Lato\, Helvetica\, Arial\; font-size: 14px\;" />\n<br style="box-sizing: border-box\; color: rgb(35\, 35\, 51)\; font-family: Lato\, Helvetica\, Arial\; font-size: 14px\;" />\n<span style="color: rgb(35\, 35\, 51)\; font-family: Lato\, Helvetica\, Arial\; font-size: 14px\;">Registration is required.</span>
LOCATION:
UID:e.468.15958
SEQUENCE:3
DTSTAMP:20260426T042043Z
URL:https://www.newnancowetachamber.org/events/details/back-to-business-workplace-best-practices-15958
END:VEVENT

END:VCALENDAR
