BEGIN:VCALENDAR
VERSION:2.0
PRODID:-//ChamberMaster//Event Calendar 2.0//EN
METHOD:PUBLISH
X-PUBLISHED-TTL:P3D
REFRESH-INTERVAL:P3D
CALSCALE:GREGORIAN
BEGIN:VEVENT
DTSTART:20200617T190000Z
DTEND:20200617T193000Z
X-MICROSOFT-CDO-ALLDAYEVENT:FALSE
SUMMARY:Back to Business: Workplace Best Practices and Legal Insights
DESCRIPTION:Join labor and employment attorneys Mel Haas and Graham Newsome of Constangy Brooks Smith & Prophete to hear legal updates relating to COVID-19 and returning to work\; what they've learned from working with their clients\; and a point of view on actions you can take to help your business and your employees navigate this extraordinary time. The laws implicated by the COVID-19 pandemic are frequently changing based on what we learn about the coronavirus. Employers must be able to respond dynamically and rapidly to these changes. \n\n \n\nThe attorneys will cover topics which include the following: the latest COVID-19 developments and employer implications\; a broad discussion of liability waivers within the context of COVID-19\; and the legal challenges employers face when reopening their business and returning employees to work\, as well as how to deal with employees who protest a return to work.\n\n \n\nRegistration is required: https://zoom.us/meeting/register/tJYrcuCrrj0pHtTifppp9dBobnx4P30n8I5a
X-ALT-DESC;FMTTYPE=text/html:<span style="font-size:14px\;"><span style="font-family:tahoma\;">Join labor and employment attorneys Mel Haas and Graham Newsome&nbsp\;of Constangy Brooks Smith &amp\; Prophete to hear legal updates relating to COVID-19 and returning to work\; what they&rsquo\;ve learned from working with their clients\; and a point of view on actions you can take to help your business and your employees navigate this extraordinary time.&nbsp\;The laws implicated by the COVID-19 pandemic are frequently changing based on what we learn about the coronavirus. Employers must be able to respond dynamically and rapidly to these changes.&nbsp\;<br />\n&nbsp\;<br />\nThe attorneys will cover topics which include the following: the latest COVID-19 developments and employer implications\; a broad discussion of liability waivers within the context of COVID-19\; and the legal challenges employers face when reopening their business and returning employees to work\, as well as how to deal with employees who protest a return to work.<br />\n&nbsp\;<br />\nRegistration is required: <a href="https://zoom.us/meeting/register/tJYrcuCrrj0pHtTifppp9dBobnx4P30n8I5a">https://zoom.us/meeting/register/tJYrcuCrrj0pHtTifppp9dBobnx4P30n8I5a</a></span></span>
LOCATION:Virtual: https://zoom.us/meeting/register/tJYrcuCrrj0pHtTifppp9dBobnx4P30n8I5a
UID:e.468.15962
SEQUENCE:3
DTSTAMP:20260426T042419Z
URL:https://www.newnancowetachamber.org/events/details/back-to-business-workplace-best-practices-and-legal-insights-15962
END:VEVENT

END:VCALENDAR
