BEGIN:VCALENDAR
VERSION:2.0
PRODID:-//ChamberMaster//Event Calendar 2.0//EN
METHOD:PUBLISH
X-PUBLISHED-TTL:P3D
REFRESH-INTERVAL:P3D
CALSCALE:GREGORIAN
BEGIN:VEVENT
DTSTART:20200826T190000Z
DTEND:20200826T193000Z
X-MICROSOFT-CDO-ALLDAYEVENT:FALSE
SUMMARY:Back to Business: Workplace Wellness Featuring Piedmont Newnan Hospital
DESCRIPTION:Piedmont Newnan Hospital joins the Newnan-Coweta Chamber and Back to Business presenting sponsor Delta Community Credit Union in a workshop for regional business owners and operators who seek up-to-date and relevant information when preparing for the unexpected. Learn from the experts in understanding more about how to ensure a healthy environment in- and-out of the workplace as the pandemic persists in west Georgia and beyond.
X-ALT-DESC;FMTTYPE=text/html:<span style="font-family:tahoma\;"><span style="color:#403F42\;"><span style="font-size:10.5pt\;">Piedmont Newnan Hospital joins the Newnan-Coweta Chamber and Back to Business presenting sponsor Delta Community Credit Union in a workshop for regional business owners and operators who seek up-to-date and relevant information when preparing for the unexpected. Learn from the experts in understanding more about how to ensure a healthy environment in- and-out of the workplace as the pandemic persists in west Georgia and beyond.</span></span></span>
LOCATION:Virtual via Cisco WebEx Events Please use the link to join: https://piedmontga.webex.com/piedmontga/onstage/g.php?MTID=e58042c8e58c1b6d237e277414670fe02 Event number: 129 596 8947 Event password: Piedmont
UID:e.468.16723
SEQUENCE:3
DTSTAMP:20260426T013037Z
URL:https://www.newnancowetachamber.org/events/details/back-to-business-workplace-wellness-featuring-piedmont-newnan-hospital-16723
END:VEVENT

END:VCALENDAR
