BEGIN:VCALENDAR
VERSION:2.0
PRODID:-//ChamberMaster//Event Calendar 2.0//EN
METHOD:PUBLISH
X-PUBLISHED-TTL:P3D
REFRESH-INTERVAL:P3D
CALSCALE:GREGORIAN
BEGIN:VEVENT
DTSTART:20260205T163000Z
DTEND:20260205T180000Z
X-MICROSOFT-CDO-ALLDAYEVENT:FALSE
SUMMARY:Bougie Lunch 2.5.26
DESCRIPTION:Elevate Your Personal Brand!\n\nKick off the New Year in Bougie style.\n\nYour Personal Brand. Your Presence. Your Power.\n\nStylish and Strategic Conversation for those who want to\n\nsharpen their edge in 2026. Plus\, a few Bougie touches!
X-ALT-DESC;FMTTYPE=text/html:<span style="font-size:18px\;">Elevate Your Personal Brand!<br />\n<strong>Kick off the New Year in Bougie style.</strong><br />\nYour Personal Brand. Your Presence. Your Power.<br />\nStylish and Strategic Conversation for those who want to<br />\nsharpen their edge in 2026. Plus\, a few Bougie touches!</span><br />\n&nbsp\;
LOCATION:St. Paul's Parish Hall 576 Roscoe Road Newnan\, Georgia 30263
UID:e.468.21463
SEQUENCE:3
DTSTAMP:20260424T090751Z
URL:https://www.newnancowetachamber.org/events/details/bougie-lunch-2-5-26-21463
END:VEVENT

END:VCALENDAR
