BEGIN:VCALENDAR
VERSION:2.0
PRODID:-//ChamberMaster//Event Calendar 2.0//EN
METHOD:PUBLISH
X-PUBLISHED-TTL:P3D
REFRESH-INTERVAL:P3D
CALSCALE:GREGORIAN
BEGIN:VEVENT
DTSTART:20220512T213000Z
DTEND:20220512T230000Z
X-MICROSOFT-CDO-ALLDAYEVENT:FALSE
SUMMARY:Business-After-Hours hosted by Contemporary Catering
DESCRIPTION:Join existing and prospective Chamber members as they gather at Contemporary Catering for Business-After-Hours! Enjoy a curated opportunity to connect with peers and renewing relationships all while celebrating the 30th Anniversary of Contemporary Catering. We're looking forward to celebrating this milestone with everyone!
X-ALT-DESC;FMTTYPE=text/html:<font face="tahoma"><span style="font-size: 14px\;">Join&nbsp\;existing and prospective Chamber members as they gather at Contemporary Catering for Business-After-Hours! Enjoy a curated opportunity to connect with peers and renewing relationships all while&nbsp\;celebrating the 30th Anniversary of Contemporary Catering. We&#39\;re looking forward to celebrating this milestone with everyone!</span></font>
LOCATION:25 Herring Road Newnan\, GA 30263
UID:e.468.18385
SEQUENCE:3
DTSTAMP:20260424T155822Z
URL:https://www.newnancowetachamber.org/events/details/business-after-hours-hosted-by-contemporary-catering-18385
END:VEVENT

END:VCALENDAR
