BEGIN:VCALENDAR
VERSION:2.0
PRODID:-//ChamberMaster//Event Calendar 2.0//EN
METHOD:PUBLISH
X-PUBLISHED-TTL:P3D
REFRESH-INTERVAL:P3D
CALSCALE:GREGORIAN
BEGIN:VEVENT
DTSTART:20220908T213000Z
DTEND:20220908T230000Z
X-MICROSOFT-CDO-ALLDAYEVENT:FALSE
SUMMARY:Business-After-Hours hosted by Kemp's Dalton West
DESCRIPTION:Existing and prospective Chamber members are invited to gather during the cocktail hour to enjoy a curated opportunity to connect with peers while establishing and renewing relationships. We're thrilled to have Kemp's Dalton West Flooring hosting this month's event with the theme\, A Fall Affair\, catered by Your Chef To Go. Kemp's Dalton West is giving away cash door prizes. Free for Chamber members\, but space is limited so please register!
X-ALT-DESC;FMTTYPE=text/html:<p style="font-size: 16px\; box-sizing: border-box\; margin: 0px 0px 10px\; line-height: 1.2\; font-family: Calibri\, Verdana\, Geneva\, sans-serif\;"><span style="box-sizing: border-box\; font-size: 14px\;"><span style="box-sizing: border-box\; font-family: tahoma\, geneva\, sans-serif\;">Existing and prospective Chamber members are invited to gather during the cocktail hour to enjoy a curated opportunity to connect with peers while establishing and renewing relationships. We&#39\;re thrilled to have Kemp&#39\;s Dalton West Flooring hosting this month&#39\;s event with the theme\, A Fall Affair\, catered by Your Chef To Go. Kemp&#39\;s Dalton West is giving away cash door prizes. Free for Chamber members\, but space is limited so please register!</span></span></p>\n
LOCATION:Kemp's Dalton West 7 Jefferson Parkway Newnan
UID:e.468.18419
SEQUENCE:3
DTSTAMP:20260422T222526Z
URL:https://www.newnancowetachamber.org/events/details/business-after-hours-hosted-by-kemp-s-dalton-west-18419
END:VEVENT

END:VCALENDAR
