BEGIN:VCALENDAR
VERSION:2.0
PRODID:-//ChamberMaster//Event Calendar 2.0//EN
METHOD:PUBLISH
X-PUBLISHED-TTL:P3D
REFRESH-INTERVAL:P3D
CALSCALE:GREGORIAN
BEGIN:VEVENT
DTSTART:20211216T223000Z
DTEND:20211217T000000Z
X-MICROSOFT-CDO-ALLDAYEVENT:FALSE
SUMMARY:Business-After-Hours hosted by Newnan Utilities and Piedmont
DESCRIPTION:This month's Business-After-Hours is co-hosted by Newnan Utilities and Piedmont Newnan!  Existing and prospective Chamber members are invited to gather and enjoy a curated opportunity to connect with peers while establishing and renewing relationships.
X-ALT-DESC;FMTTYPE=text/html:<font face="tahoma\, geneva\, sans-serif"><span style="font-size: 14px\;">This month&#39\;s Business-After-Hours is co-hosted by Newnan&nbsp\;Utilities and Piedmont Newnan! &nbsp\;Existing and prospective Chamber members are&nbsp\;invited to gather and enjoy a curated opportunity to connect with peers while establishing and renewing relationships.</span></font>
LOCATION:Newnan Utilities Cabin 1 Young Ave\, Newnan\, Ga 30263
UID:e.468.17050
SEQUENCE:3
DTSTAMP:20260424T235806Z
URL:https://www.newnancowetachamber.org/events/details/business-after-hours-hosted-by-newnan-utilities-and-piedmont-17050
END:VEVENT

END:VCALENDAR
