BEGIN:VCALENDAR
VERSION:2.0
PRODID:-//ChamberMaster//Event Calendar 2.0//EN
METHOD:PUBLISH
X-PUBLISHED-TTL:P3D
REFRESH-INTERVAL:P3D
CALSCALE:GREGORIAN
BEGIN:VEVENT
DTSTART:20211118T223000Z
DTEND:20211119T000000Z
X-MICROSOFT-CDO-ALLDAYEVENT:FALSE
SUMMARY:Business-After-Hours hosted by The Vinings at Newnan Lakes
DESCRIPTION:The Vinings at Newnan Lakes and the Newnan-Coweta Chamber invite you to celebrate gratitude and giving with us at November's Business-After-Hours! Gather at The Vinings at Newnan Lakes and get ready to connect with peers while establishing and renewing relationships. What better way to showcase our outstanding community than with some after-work fun during this holiday season?!
X-ALT-DESC;FMTTYPE=text/html:<span style="font-family:tahoma\;"><span style="font-size: 14px\; white-space: pre-wrap\; text-size-adjust: auto\; color: rgb(0\, 0\, 0)\;">The Vinings at Newnan Lakes and the Newnan-Coweta Chamber invite you to celebrate gratitude and giving with us at November&#39\;s Business-After-Hours!</span><span style="font-size: 14px\; white-space: pre-wrap\; text-size-adjust: auto\; color: rgb(0\, 0\, 0)\;"> Gather at The Vinings at Newnan Lakes and get ready</span><span style="font-size: 14px\; white-space: pre-wrap\; text-size-adjust: auto\; color: rgb(5\, 5\, 5)\;">&nbsp\;to connect with peers while establishing and renewing relationships. What better way to showcase our outstanding community than with some after-work fun during this holiday season?! </span></span>
LOCATION:The Vinings at Newnan Lakes 80 Newnan Lakes Blvd. | Newnan
UID:e.468.17894
SEQUENCE:3
DTSTAMP:20260425T013626Z
URL:https://www.newnancowetachamber.org/events/details/business-after-hours-hosted-by-the-vinings-at-newnan-lakes-17894
END:VEVENT

END:VCALENDAR
