BEGIN:VCALENDAR
VERSION:2.0
PRODID:-//ChamberMaster//Event Calendar 2.0//EN
METHOD:PUBLISH
X-PUBLISHED-TTL:P3D
REFRESH-INTERVAL:P3D
CALSCALE:GREGORIAN
BEGIN:VEVENT
DTSTART:20260611T213000Z
DTEND:20260611T230000Z
X-MICROSOFT-CDO-ALLDAYEVENT:FALSE
SUMMARY:Business-After-Hours | Newnan Country Club
DESCRIPTION:Summer is heating up\, and there's no better place to celebrate than the Newnan Country Club. Enjoy an evening of sophistication featuring some tasty appetizers from Head Chef\, Lance Jeffers. Enjoy a full service bar and a specialty cocktail. Their stunning golf course views and music create an ambiance you'll love! Attendees will have the chance to win door prizes\, so mark your calendar and RSVP to make sure you don't miss this hot event!
X-ALT-DESC;FMTTYPE=text/html:<span style="font-size: 16px\;">Summer is heating up\, and there&rsquo\;s no better place to celebrate than the <strong>Newnan Country Club</strong>. Enjoy an evening of sophistication featuring some tasty appetizers from Head Chef\, Lance Jeffers. Enjoy a full service bar and a specialty cocktail. Their stunning golf course views and music create an ambiance you&rsquo\;ll love! Attendees will have the chance to win door prizes\, so mark your calendar and RSVP to make sure you don&#39\;t miss this hot event!</span>
LOCATION:1356 US-29 Newnan\, GA 30263
UID:e.468.21292
SEQUENCE:3
DTSTAMP:20260424T154434Z
URL:https://www.newnancowetachamber.org/events/details/business-after-hours-newnan-country-club-21292
END:VEVENT

END:VCALENDAR
