BEGIN:VCALENDAR
VERSION:2.0
PRODID:-//ChamberMaster//Event Calendar 2.0//EN
METHOD:PUBLISH
X-PUBLISHED-TTL:P3D
REFRESH-INTERVAL:P3D
CALSCALE:GREGORIAN
BEGIN:VEVENT
DTSTART:20211014T213000Z
DTEND:20211014T230000Z
X-MICROSOFT-CDO-ALLDAYEVENT:FALSE
SUMMARY:Business-After-Hours with Blue Fern Merchant and Design Community and Joy Barnes-Berkshire Hathaway
DESCRIPTION:Existing and prospective Chamber members are invited to gather and enjoy a curated opportunity to connect with peers while establishing and renewing relationships. This month's gathering is co-hosted by Joy Barnes-Berkshire Hathaway and Blue Fern Merchant and Design Community!
X-ALT-DESC;FMTTYPE=text/html:<font face="tahoma\, geneva\, sans-serif"><span style="font-size: 14px\;">Existing and prospective Chamber members are&nbsp\;invited to&nbsp\;gather and enjoy a curated opportunity to connect with peers while establishing and renewing relationships. This month&#39\;s gathering is co-hosted by&nbsp\;Joy Barnes-Berkshire Hathaway and Blue Fern Merchant and Design Community!</span></font>
LOCATION:Blue Fern Merchant and Design Community 5 Greenville St S\, Newnan\, GA 30263
UID:e.468.17472
SEQUENCE:3
DTSTAMP:20260425T032601Z
URL:https://www.newnancowetachamber.org/events/details/business-after-hours-with-blue-fern-merchant-and-design-community-and-joy-barnes-berkshire-hathaway-17472
END:VEVENT

END:VCALENDAR
