BEGIN:VCALENDAR
VERSION:2.0
PRODID:-//ChamberMaster//Event Calendar 2.0//EN
METHOD:PUBLISH
X-PUBLISHED-TTL:P3D
REFRESH-INTERVAL:P3D
CALSCALE:GREGORIAN
BEGIN:VEVENT
DTSTART:20181212T143000Z
DTEND:20181212T163000Z
X-MICROSOFT-CDO-ALLDAYEVENT:FALSE
SUMMARY:Business Women Owners Coaching
DESCRIPTION:Led by Coach Rita McMaken.  By invitation only.  For more information or inquiries\, please contact the Chamber.
X-ALT-DESC;FMTTYPE=text/html:<span style="background:white\;"><span style="color:#333333\;"><span style="font-family:arial\,sans-serif\;"><span style="font-size:10.0pt\;">Led by Coach Rita&nbsp\;</span></span></span></span><span style="color:#333333\;"><span style="font-family:arial\,sans-serif\;"><span style="font-size:10.0pt\;">McMaken</span></span></span><span style="background:white\;"><span style="color:#333333\;"><span style="font-family:arial\,sans-serif\;"><span style="font-size:10.0pt\;">. &nbsp\;By invitation only. &nbsp\;For more information or inquiries\, please contact the Chamber.</span></span></span></span>
LOCATION:The Chamber
UID:e.468.8474
SEQUENCE:3
DTSTAMP:20260425T195516Z
URL:https://www.newnancowetachamber.org/events/details/business-women-owners-coaching-12-12-2018-8474
END:VEVENT

END:VCALENDAR
