BEGIN:VCALENDAR
VERSION:2.0
PRODID:-//ChamberMaster//Event Calendar 2.0//EN
METHOD:PUBLISH
X-PUBLISHED-TTL:P3D
REFRESH-INTERVAL:P3D
CALSCALE:GREGORIAN
BEGIN:VEVENT
DTSTART:20201001T211500Z
DTEND:20201001T221500Z
X-MICROSOFT-CDO-ALLDAYEVENT:FALSE
SUMMARY:Business Women's Alliance Wellness Walk
DESCRIPTION:Get up\, get out\, and get moving with the Business Women's Alliance as we embark upon a 6-week walking series featuring Coweta's leading ladies and some of the most beautiful landscapes in the county. Together\, we'll walk local trails and attractions\, while getting to know one another in a relaxed\, low-pressure environment.\n\n \n\nOur first walk on October 1st will be hosted by LifePlan Financial Advisors at the LINC.
X-ALT-DESC;FMTTYPE=text/html:<span style="font-size:14px\;"><span style="font-family:tahoma\;">Get up\, get out\, and get moving with the Business Women&#39\;s Alliance as we embark upon a 6-week walking series featuring Coweta&#39\;s leading ladies and some of the most beautiful landscapes in the county. Together\, we&#39\;ll walk local trails and attractions\, while getting to know one another in a relaxed\, low-pressure environment.<br />\n&nbsp\;<br />\nOur first walk on October 1st will be hosted by LifePlan Financial Advisors at the LINC.&nbsp\;</span></span>
LOCATION:LINC Trailhead 1515 Lower Fayetteville Rd. | Newnan
UID:e.468.16785
SEQUENCE:3
DTSTAMP:20260425T220915Z
URL:https://www.newnancowetachamber.org/events/details/business-women-s-alliance-wellness-walk-16785
END:VEVENT

END:VCALENDAR
