BEGIN:VCALENDAR
VERSION:2.0
PRODID:-//ChamberMaster//Event Calendar 2.0//EN
METHOD:PUBLISH
X-PUBLISHED-TTL:P3D
REFRESH-INTERVAL:P3D
CALSCALE:GREGORIAN
BEGIN:VEVENT
DTSTART:20201015T211500Z
DTEND:20201015T221500Z
X-MICROSOFT-CDO-ALLDAYEVENT:FALSE
SUMMARY:Business Women's Alliance Wellness Walk
DESCRIPTION:Join the Chamber and our special hostesses from Newnan Utilities for this week's walk at Newnan's scenic Carl Miller Park.\n\nGet up\, get out\, and get moving with the Business Women's Alliance as we embark upon a 6-week walking series featuring Coweta's leading ladies and some of the most beautiful landscapes in the county. Together\, we'll walk local trails and attractions\, while getting to know one another in a relaxed\, low-pressure environment.
X-ALT-DESC;FMTTYPE=text/html:Join the Chamber and our special hostesses from Newnan Utilities for this week&#39\;s walk at Newnan&#39\;s scenic Carl Miller Park.<br />\nGet up\, get out\, and get moving with the Business Women&#39\;s Alliance as we embark upon a 6-week walking series featuring Coweta&#39\;s leading ladies and some of the most beautiful landscapes in the county. Together\, we&#39\;ll walk local trails and attractions\, while getting to know one another in a relaxed\, low-pressure environment.
LOCATION:Carl Miller Park 74 Sewell Rd | Newnan
UID:e.468.16790
SEQUENCE:3
DTSTAMP:20260425T221306Z
URL:https://www.newnancowetachamber.org/events/details/business-women-s-alliance-wellness-walk-16790
END:VEVENT

END:VCALENDAR
