BEGIN:VCALENDAR
VERSION:2.0
PRODID:-//ChamberMaster//Event Calendar 2.0//EN
METHOD:PUBLISH
X-PUBLISHED-TTL:P3D
REFRESH-INTERVAL:P3D
CALSCALE:GREGORIAN
BEGIN:VEVENT
DTSTART:20260514T210000Z
DTEND:20260514T230000Z
X-MICROSOFT-CDO-ALLDAYEVENT:FALSE
SUMMARY:Businesswomen's Purpose Alliance - Bougie in Bloom
DESCRIPTION:
X-ALT-DESC;FMTTYPE=text/html:
LOCATION:Newnan-Coweta History Center 74 Jackson Street Newnan\, Georgia 30263
UID:e.468.21552
SEQUENCE:3
DTSTAMP:20260421T123653Z
URL:https://www.newnancowetachamber.org/events/details/business-women-s-purpose-alliance-bougie-in-bloom-21552
END:VEVENT

END:VCALENDAR
