BEGIN:VCALENDAR
VERSION:2.0
PRODID:-//ChamberMaster//Event Calendar 2.0//EN
METHOD:PUBLISH
X-PUBLISHED-TTL:P3D
REFRESH-INTERVAL:P3D
CALSCALE:GREGORIAN
BEGIN:VEVENT
DTSTART;VALUE=DATE:20260820
DTEND;VALUE=DATE:20260821
TRANSP:TRANSPARENT
X-MICROSOFT-CDO-ALLDAYEVENT:TRUE
SUMMARY:Businesswomen's Purpose Alliance Bougie Lunch
DESCRIPTION:
X-ALT-DESC;FMTTYPE=text/html:
LOCATION:
UID:e.468.21555
SEQUENCE:3
DTSTAMP:20260424T135528Z
URL:https://www.newnancowetachamber.org/events/details/businesswomen-s-purpose-alliance-bougie-lunch-21555
END:VEVENT

END:VCALENDAR
