BEGIN:VCALENDAR
VERSION:2.0
PRODID:-//ChamberMaster//Event Calendar 2.0//EN
METHOD:PUBLISH
X-PUBLISHED-TTL:P3D
REFRESH-INTERVAL:P3D
CALSCALE:GREGORIAN
BEGIN:VEVENT
DTSTART:20201117T163000Z
DTEND:20201117T180000Z
X-MICROSOFT-CDO-ALLDAYEVENT:FALSE
SUMMARY:By Invitation Only: Enhanced Investor Taco Tuesday Luncheon
DESCRIPTION:Join local leaders and key investors in a thoughtful dialogue centered on the strategies and tactics employed by the Newnan-Coweta Chamber in ensuring the beneficial and productive application of your investment via Coweta's largest business organization. Participate in a roundtable discussion about the issues that matter most to you in ensuring continued prosperity in the midst of the COVID-19 pandemic and beyond.  As an Enhanced Investor\, participation is encouraged and we've reserved a seat at the table for YOU!\n\n\n\nPlease note that there is a strict limit on participation in an effort to maintain adequate physical distance.  Masks are required when a minimum of 6-feet of distance cannot be maintained. Guests will be required to sign liability waiver prior to attending.
X-ALT-DESC;FMTTYPE=text/html:Join local leaders and key investors in a thoughtful dialogue centered on the strategies and tactics employed by the Newnan-Coweta Chamber in ensuring the beneficial and productive application of your investment via Coweta&#39\;s largest business organization. Participate in a roundtable discussion about the issues that matter most to you in ensuring continued prosperity in the midst of the COVID-19 pandemic and beyond.&nbsp\; As an Enhanced Investor\, participation is encouraged and we&#39\;ve reserved a seat at the table for YOU!<br />\n<br />\nPlease note that there is a strict limit on participation in an effort to maintain adequate physical distance.&nbsp\; Masks are required when a minimum of 6-feet of distance cannot be maintained. Guests will be required to sign liability waiver prior to attending.
LOCATION:Newnan Utilities Cabin 7 Young Avenue Newnan\, GA 30263
UID:e.468.16835
SEQUENCE:3
DTSTAMP:20260425T220917Z
URL:https://www.newnancowetachamber.org/events/details/by-invitation-only-enhanced-investor-taco-tuesday-luncheon-16835
END:VEVENT

END:VCALENDAR
