BEGIN:VCALENDAR
VERSION:2.0
PRODID:-//ChamberMaster//Event Calendar 2.0//EN
METHOD:PUBLISH
X-PUBLISHED-TTL:P3D
REFRESH-INTERVAL:P3D
CALSCALE:GREGORIAN
BEGIN:VEVENT
DTSTART:20230913T133000Z
DTEND:20230913T143000Z
X-MICROSOFT-CDO-ALLDAYEVENT:FALSE
SUMMARY:CANCELLED: 2023 Non-Profit Alliance September Meeting
DESCRIPTION:We apologize for the inconvenience! This month's NPA meeting is canceled. Please join us next month! Join a monthly roundtable discussion for our Chamber member non-profits. Our Non-Profit Alliance is a great way to bring awareness to your organization\, while fostering relationships with fellow non-profits.
X-ALT-DESC;FMTTYPE=text/html:<span style="color: rgb(5\, 5\, 5)\; font-family: tahoma\; font-size: 14px\; caret-color: rgb(5\, 5\, 5)\;">We apologize for the inconvenience! This month&#39\;s NPA meeting is canceled. Please join us next month! Join a monthly roundtable discussion for our Chamber member non-profits. Our Non-Profit Alliance is a great way to bring awareness to your organization\, while fostering relationships with fellow non-profits.</span>
LOCATION:The Chamber 23 Bullsboro Dr. Newnan\, GA 30263
UID:e.468.18641
SEQUENCE:3
DTSTAMP:20260420T052127Z
URL:https://www.newnancowetachamber.org/events/details/cancelled-2023-non-profit-alliance-september-meeting-18641
END:VEVENT

END:VCALENDAR
