BEGIN:VCALENDAR
VERSION:2.0
PRODID:-//ChamberMaster//Event Calendar 2.0//EN
METHOD:PUBLISH
X-PUBLISHED-TTL:P3D
REFRESH-INTERVAL:P3D
CALSCALE:GREGORIAN
BEGIN:VEVENT
DTSTART:20201029T211500Z
DTEND:20201029T221500Z
X-MICROSOFT-CDO-ALLDAYEVENT:FALSE
SUMMARY:CANCELLED: Business Women's Alliance Wellness Walk
DESCRIPTION:CANCELLED due to weather forecast!  We'll see you next week!\n\n\n\nGet up\, get out\, and get moving with the Business Women's Alliance as we embark upon a 7-week walking series featuring Coweta's leading ladies and some of the most beautiful landscapes in the county. Together\, we'll walk local trails and attractions\, while getting to know one another in a relaxed\, low-pressure environment.
X-ALT-DESC;FMTTYPE=text/html:CANCELLED due to weather forecast!&nbsp\; We&#39\;ll see you next week!<br />\n<br />\nGet up\, get out\, and get moving with the Business Women&#39\;s Alliance as we embark upon a 7-week walking series featuring Coweta&#39\;s leading ladies and some of the most beautiful landscapes in the county. Together\, we&#39\;ll walk local trails and attractions\, while getting to know one another in a relaxed\, low-pressure environment.
LOCATION:Veteran's Memorial Park 30 Temple Ave. | Newnan
UID:e.468.16795
SEQUENCE:3
DTSTAMP:20260425T221031Z
URL:https://www.newnancowetachamber.org/events/details/cancelled-business-women-s-alliance-wellness-walk-16795
END:VEVENT

END:VCALENDAR
