BEGIN:VCALENDAR
VERSION:2.0
PRODID:-//ChamberMaster//Event Calendar 2.0//EN
METHOD:PUBLISH
X-PUBLISHED-TTL:P3D
REFRESH-INTERVAL:P3D
CALSCALE:GREGORIAN
BEGIN:VEVENT
DTSTART:20220413T213000Z
DTEND:20220414T003000Z
X-MICROSOFT-CDO-ALLDAYEVENT:FALSE
SUMMARY:Candidate Forum
DESCRIPTION:Today's Candidate debates will be live streamed from our Facebook page starting at 5:30pm and continuing until the all the debates have finished. to https://www.facebook.com/NewnanCowetaChamber\n\n \n\n	\n		\n			Date\n			Local Election\n			District/Race\n			Candidates\n			Time\n		\n	\n	\n		\n			April 13\n			Coweta County Board of Education\n			District 1\n			Maxwell Britton\n			5:30PM\n		\n		\n			Amy Dees (I)\n		\n		\n			April 13\n			Coweta County Board of Education\n			District 1 at large\n			Cory Gambardella\n			6:00PM\n		\n		\n			Larry Robertson (I)\n		\n		\n			April 13\n			Coweta County Board of Education\n			District 3\n			Beth Barnett (I)\n			6:30PM\n		\n		\n			Megan Smith\n		\n		\n			April 13\n			Coweta County Board of Education\n			District 4\n			David Bostic\n			7:00PM\n		\n		\n			Rob DuBose\n		\n		\n			Linda Menk (I)\n		\n		\n			April 13\n			Coweta County Board of Commissioners\n			District 2\n			Steven Hoffman\n			7:30PM\n		\n		\n			Craig Jackson\n		\n		\n			Kenny Johnson\n		\n		\n			Bill McKenzie\n		\n		\n			April 13\n			Coweta County Board of Commissioners\n			District 3\n			Bob Blackburn (I)\n			8:00PM\n		\n		\n			Frankie Hardin
X-ALT-DESC;FMTTYPE=text/html:Today&#39\;s Candidate debates will be live streamed from our Facebook page starting at 5:30pm and continuing until the all the debates have finished. to&nbsp\;<span style="font-size:18px\;"><strong><span style="font-family:calibri\,sans-serif\;"><a href="https://www.facebook.com/NewnanCowetaChamber"><span style="font-size:22px\;">https://www.facebook.com/NewnanCowetaChamber</span></a></span></strong></span><br />\n&nbsp\;\n<table align="center" border="1" cellpadding="0" cellspacing="0" style="border-collapse:collapse\;border:none\;" width="0">\n	<thead>\n		<tr style="height:28px\;">\n			<th style="width:83px\;border-top:2.25pt\;border-left:2.25pt\;border-bottom:1.0pt\;border-right:1.0pt\;border-style:solid\;background:#BFBFBF\;padding:0in 5.4pt 0in 5.4pt\;height:28px\;"><a name="_Hlk98747185"><strong><span style="font-size:10.0pt\;">Date</span></strong></a></th>\n			<th style="width:240px\;border-top:solid #0D0D0D 2.25pt\;border-left:none\;border-bottom:solid #0D0D0D 1.0pt\;border-right:solid #0D0D0D 1.0pt\;background:#BFBFBF\;padding:0in 5.4pt 0in 5.4pt\;height:28px\;"><strong><span style="font-size:10.0pt\;">Local Election</span></strong></th>\n			<th style="width:126px\;border-top:solid #0D0D0D 2.25pt\;border-left:none\;border-bottom:solid #0D0D0D 1.0pt\;border-right:solid #0D0D0D 1.0pt\;background:#BFBFBF\;padding:0in 5.4pt 0in 5.4pt\;height:28px\;"><strong><span style="font-size:10.0pt\;">District/Race</span></strong></th>\n			<th style="width:156px\;border-top:solid #0D0D0D 2.25pt\;border-left:none\;border-bottom:solid #0D0D0D 1.0pt\;border-right:solid #0D0D0D 1.0pt\;background:#BFBFBF\;padding:0in 5.4pt 0in 5.4pt\;height:28px\;"><strong><span style="font-size:10.0pt\;">Candidates</span></strong></th>\n			<th style="width:67px\;border-top:solid #0D0D0D 2.25pt\;border-left:none\;border-bottom:solid #0D0D0D 1.0pt\;border-right:solid #0D0D0D 2.25pt\;background:#BFBFBF\;padding:0in 5.4pt 0in 5.4pt\;height:28px\;"><strong><span style="font-size:10.0pt\;">Time</span></strong></th>\n		</tr>\n	</thead>\n	<tbody>\n		<tr style="height:17px\;">\n			<td rowspan="2" style="width:83px\;border-top:none\;border-left:solid #0D0D0D 2.25pt\;border-bottom:solid #0D0D0D 1.0pt\;border-right:solid #0D0D0D 1.0pt\;background:#F2F2F2\;padding:0in 5.4pt 0in 5.4pt\;height:17px\;"><span style="font-size:10.0pt\;">April 13</span></td>\n			<td rowspan="2" style="width:240px\;border-top:none\;border-left:none\;border-bottom:solid #0D0D0D 1.0pt\;border-right:solid #0D0D0D 1.0pt\;background:#F2F2F2\;padding:0in 5.4pt 0in 5.4pt\;height:17px\;"><span style="font-size:10.0pt\;">Coweta County Board of Education</span></td>\n			<td rowspan="2" style="width:126px\;border-top:none\;border-left:none\;border-bottom:solid #0D0D0D 1.0pt\;border-right:solid #0D0D0D 1.0pt\;background:#F2F2F2\;padding:0in 5.4pt 0in 5.4pt\;height:17px\;"><span style="font-size:10.0pt\;">District 1</span></td>\n			<td style="width:156px\;border-top:none\;border-left:none\;border-bottom:solid #0D0D0D 1.0pt\;border-right:solid #0D0D0D 1.0pt\;background:#F2F2F2\;padding:0in 5.4pt 0in 5.4pt\;height:17px\;vertical-align:top\;"><span style="font-size:10.0pt\;">Maxwell Britton</span></td>\n			<td rowspan="2" style="width:67px\;border-top:none\;border-left:none\;border-bottom:solid #0D0D0D 1.0pt\;border-right:solid #0D0D0D 2.25pt\;background:#F2F2F2\;padding:0in 5.4pt 0in 5.4pt\;height:17px\;"><span style="font-size:10.0pt\;">5:30PM</span></td>\n		</tr>\n		<tr style="height:17px\;">\n			<td style="width:156px\;border-top:none\;border-left:none\;border-bottom:solid #0D0D0D 1.0pt\;border-right:solid #0D0D0D 1.0pt\;background:#F2F2F2\;padding:0in 5.4pt 0in 5.4pt\;height:17px\;vertical-align:top\;"><span style="font-size:10.0pt\;">Amy Dees (I)</span></td>\n		</tr>\n		<tr style="height:17px\;">\n			<td rowspan="2" style="width:83px\;border-top:none\;border-left:solid #0D0D0D 2.25pt\;border-bottom:solid #0D0D0D 1.0pt\;border-right:solid #0D0D0D 1.0pt\;background:white\;padding:0in 5.4pt 0in 5.4pt\;height:17px\;"><span style="font-size:10.0pt\;">April 13</span></td>\n			<td rowspan="2" style="width:240px\;border-top:none\;border-left:none\;border-bottom:solid #0D0D0D 1.0pt\;border-right:solid #0D0D0D 1.0pt\;background:white\;padding:0in 5.4pt 0in 5.4pt\;height:17px\;"><span style="font-size:10.0pt\;">Coweta County Board of Education</span></td>\n			<td rowspan="2" style="width:126px\;border-top:none\;border-left:none\;border-bottom:solid #0D0D0D 1.0pt\;border-right:solid #0D0D0D 1.0pt\;background:white\;padding:0in 5.4pt 0in 5.4pt\;height:17px\;"><span style="font-size:10.0pt\;">District 1 at large</span></td>\n			<td style="width:156px\;border-top:none\;border-left:none\;border-bottom:solid #0D0D0D 1.0pt\;border-right:solid #0D0D0D 1.0pt\;background:white\;padding:0in 5.4pt 0in 5.4pt\;height:17px\;vertical-align:top\;"><span style="font-size:10.0pt\;">Cory Gambardella</span></td>\n			<td rowspan="2" style="width:67px\;border-top:none\;border-left:none\;border-bottom:solid #0D0D0D 1.0pt\;border-right:solid #0D0D0D 2.25pt\;background:white\;padding:0in 5.4pt 0in 5.4pt\;height:17px\;"><span style="font-size:10.0pt\;">6:00PM</span></td>\n		</tr>\n		<tr style="height:17px\;">\n			<td style="width:156px\;border-top:none\;border-left:none\;border-bottom:solid windowtext 1.0pt\;border-right:solid #0D0D0D 1.0pt\;padding:0in 5.4pt 0in 5.4pt\;height:17px\;vertical-align:top\;"><span style="font-size:10.0pt\;">Larry Robertson (I)</span></td>\n		</tr>\n		<tr style="height:19px\;">\n			<td rowspan="2" style="width:83px\;border-top:none\;border-left:solid #0D0D0D 2.25pt\;border-bottom:solid #0D0D0D 1.0pt\;border-right:solid #0D0D0D 1.0pt\;background:#F2F2F2\;padding:0in 5.4pt 0in 5.4pt\;height:19px\;"><span style="font-size:10.0pt\;">April 13</span></td>\n			<td rowspan="2" style="width:240px\;border-top:none\;border-left:none\;border-bottom:solid #0D0D0D 1.0pt\;border-right:solid #0D0D0D 1.0pt\;background:#F2F2F2\;padding:0in 5.4pt 0in 5.4pt\;height:19px\;"><span style="font-size:10.0pt\;">Coweta County Board of Education</span></td>\n			<td rowspan="2" style="width:126px\;border-top:none\;border-left:none\;border-bottom:solid #0D0D0D 1.0pt\;border-right:solid windowtext 1.0pt\;background:#F2F2F2\;padding:0in 5.4pt 0in 5.4pt\;height:19px\;"><span style="font-size:10.0pt\;">District 3</span></td>\n			<td style="width:156px\;border-top:none\;border-left:none\;border-bottom:solid windowtext 1.0pt\;border-right:solid windowtext 1.0pt\;background:#F2F2F2\;padding:0in 5.4pt 0in 5.4pt\;height:19px\;vertical-align:top\;"><span style="font-size:10.0pt\;">Beth Barnett (I)</span></td>\n			<td rowspan="2" style="width:67px\;border-top:none\;border-left:none\;border-bottom:solid #0D0D0D 1.0pt\;border-right:solid #0D0D0D 2.25pt\;background:#F2F2F2\;padding:0in 5.4pt 0in 5.4pt\;height:19px\;"><span style="font-size:10.0pt\;">6:30PM</span></td>\n		</tr>\n		<tr style="height:19px\;">\n			<td style="width:156px\;border-top:none\;border-left:none\;border-bottom:solid windowtext 1.0pt\;border-right:solid windowtext 1.0pt\;background:#F2F2F2\;padding:0in 5.4pt 0in 5.4pt\;height:19px\;vertical-align:top\;"><span style="font-size:10.0pt\;">Megan Smith</span></td>\n		</tr>\n		<tr style="height:15px\;">\n			<td rowspan="3" style="width:83px\;border-top:none\;border-left:solid #0D0D0D 2.25pt\;border-bottom:solid #0D0D0D 1.0pt\;border-right:solid #0D0D0D 1.0pt\;background:white\;padding:0in 5.4pt 0in 5.4pt\;height:15px\;"><span style="font-size:10.0pt\;">April 13</span></td>\n			<td rowspan="3" style="width:240px\;border-top:none\;border-left:none\;border-bottom:solid #0D0D0D 1.0pt\;border-right:solid #0D0D0D 1.0pt\;background:white\;padding:0in 5.4pt 0in 5.4pt\;height:15px\;"><span style="font-size:10.0pt\;">Coweta County Board of Education</span></td>\n			<td rowspan="3" style="width:126px\;border-top:none\;border-left:none\;border-bottom:solid #0D0D0D 1.0pt\;border-right:solid #0D0D0D 1.0pt\;background:white\;padding:0in 5.4pt 0in 5.4pt\;height:15px\;"><span style="font-size:10.0pt\;">District 4</span></td>\n			<td style="width:156px\;border-top:none\;border-left:none\;border-bottom:solid #0D0D0D 1.0pt\;border-right:solid #0D0D0D 1.0pt\;background:white\;padding:0in 5.4pt 0in 5.4pt\;height:15px\;"><span style="font-size:10.0pt\;">David Bostic</span></td>\n			<td rowspan="3" style="width:67px\;border-top:none\;border-left:none\;border-bottom:solid #0D0D0D 1.0pt\;border-right:solid #0D0D0D 2.25pt\;background:white\;padding:0in 5.4pt 0in 5.4pt\;height:15px\;"><span style="font-size:10.0pt\;">7:00PM</span></td>\n		</tr>\n		<tr style="height:15px\;">\n			<td style="width:156px\;border-top:none\;border-left:none\;border-bottom:solid #0D0D0D 1.0pt\;border-right:solid #0D0D0D 1.0pt\;background:white\;padding:0in 5.4pt 0in 5.4pt\;height:15px\;"><span style="font-size:10.0pt\;">Rob DuBose</span></td>\n		</tr>\n		<tr style="height:18px\;">\n			<td style="width:156px\;border-top:none\;border-left:none\;border-bottom:solid #0D0D0D 1.0pt\;border-right:solid #0D0D0D 1.0pt\;background:white\;padding:0in 5.4pt 0in 5.4pt\;height:18px\;"><span style="font-size:10.0pt\;">Linda Menk (I)</span></td>\n		</tr>\n		<tr style="height:19px\;">\n			<td rowspan="4" style="width:83px\;border-top:none\;border-left:solid #0D0D0D 2.25pt\;border-bottom:solid #0D0D0D 1.0pt\;border-right:solid #0D0D0D 1.0pt\;background:#F2F2F2\;padding:0in 5.4pt 0in 5.4pt\;height:19px\;"><span style="font-size:10.0pt\;">April 13</span></td>\n			<td rowspan="4" style="width:240px\;border-top:none\;border-left:none\;border-bottom:solid #0D0D0D 1.0pt\;border-right:solid #0D0D0D 1.0pt\;background:#F2F2F2\;padding:0in 5.4pt 0in 5.4pt\;height:19px\;"><span style="font-size:10.0pt\;">Coweta County Board of Commissioners</span></td>\n			<td rowspan="4" style="width:126px\;border-top:none\;border-left:none\;border-bottom:solid #0D0D0D 1.0pt\;border-right:solid #0D0D0D 1.0pt\;background:#F2F2F2\;padding:0in 5.4pt 0in 5.4pt\;height:19px\;"><span style="font-size:10.0pt\;">District 2</span></td>\n			<td style="width:156px\;border-top:none\;border-left:none\;border-bottom:solid #0D0D0D 1.0pt\;border-right:solid #0D0D0D 1.0pt\;background:#F2F2F2\;padding:0in 5.4pt 0in 5.4pt\;height:19px\;"><span style="font-size:10.0pt\;">Steven Hoffman</span></td>\n			<td rowspan="4" style="width:67px\;border-top:none\;border-left:none\;border-bottom:solid #0D0D0D 1.0pt\;border-right:solid #0D0D0D 2.25pt\;background:#F2F2F2\;padding:0in 5.4pt 0in 5.4pt\;height:19px\;"><span style="font-size:10.0pt\;">7:30PM</span></td>\n		</tr>\n		<tr style="height:18px\;">\n			<td style="width:156px\;border-top:none\;border-left:none\;border-bottom:solid #0D0D0D 1.0pt\;border-right:solid #0D0D0D 1.0pt\;background:#F2F2F2\;padding:0in 5.4pt 0in 5.4pt\;height:18px\;"><span style="font-size:10.0pt\;">Craig Jackson</span></td>\n		</tr>\n		<tr style="height:18px\;">\n			<td style="width:156px\;border-top:none\;border-left:none\;border-bottom:solid #0D0D0D 1.0pt\;border-right:solid #0D0D0D 1.0pt\;background:#F2F2F2\;padding:0in 5.4pt 0in 5.4pt\;height:18px\;"><span style="font-size:10.0pt\;">Kenny Johnson</span></td>\n		</tr>\n		<tr style="height:18px\;">\n			<td style="width:156px\;border-top:none\;border-left:none\;border-bottom:solid #0D0D0D 1.0pt\;border-right:solid #0D0D0D 1.0pt\;background:#F2F2F2\;padding:0in 5.4pt 0in 5.4pt\;height:18px\;"><span style="font-size:10.0pt\;">Bill McKenzie</span></td>\n		</tr>\n		<tr style="height:18px\;">\n			<td rowspan="2" style="width:83px\;border-top:none\;border-left:solid #0D0D0D 2.25pt\;border-bottom:solid #0D0D0D 2.25pt\;border-right:solid #0D0D0D 1.0pt\;background:white\;padding:0in 5.4pt 0in 5.4pt\;height:18px\;"><span style="font-size:10.0pt\;">April 13</span></td>\n			<td rowspan="2" style="width:240px\;border-top:none\;border-left:none\;border-bottom:solid #0D0D0D 2.25pt\;border-right:solid #0D0D0D 1.0pt\;background:white\;padding:0in 5.4pt 0in 5.4pt\;height:18px\;"><span style="font-size:10.0pt\;">Coweta County Board of Commissioners</span></td>\n			<td rowspan="2" style="width:126px\;border-top:none\;border-left:none\;border-bottom:solid #0D0D0D 2.25pt\;border-right:solid #0D0D0D 1.0pt\;background:white\;padding:0in 5.4pt 0in 5.4pt\;height:18px\;"><span style="font-size:10.0pt\;">District 3</span></td>\n			<td style="width:156px\;border-top:none\;border-left:none\;border-bottom:solid #0D0D0D 1.0pt\;border-right:solid #0D0D0D 1.0pt\;background:white\;padding:0in 5.4pt 0in 5.4pt\;height:18px\;"><span style="font-size:10.0pt\;">Bob Blackburn (I)</span></td>\n			<td rowspan="2" style="width:67px\;border-top:none\;border-left:none\;border-bottom:solid #0D0D0D 2.25pt\;border-right:solid #0D0D0D 2.25pt\;background:white\;padding:0in 5.4pt 0in 5.4pt\;height:18px\;"><span style="font-size:10.0pt\;">8:00PM</span></td>\n		</tr>\n		<tr style="height:22px\;">\n			<td style="width:156px\;border-top:none\;border-left:none\;border-bottom:solid #0D0D0D 2.25pt\;border-right:solid #0D0D0D 1.0pt\;background:white\;padding:0in 5.4pt 0in 5.4pt\;height:22px\;"><span style="font-size:10.0pt\;">Frankie Hardin</span></td>\n		</tr>\n	</tbody>\n</table>\n\n<div style="clear:both\;">&nbsp\;</div>\n
LOCATION:Not open to the public. View live stream\; tape (once sent to the Chamber)\, will be available on our website - www.newnancowetachamber.org
UID:e.468.18214
SEQUENCE:3
DTSTAMP:20260424T173714Z
URL:https://www.newnancowetachamber.org/events/details/candidate-forum-18214
END:VEVENT

END:VCALENDAR
