BEGIN:VCALENDAR
VERSION:2.0
PRODID:-//ChamberMaster//Event Calendar 2.0//EN
METHOD:PUBLISH
X-PUBLISHED-TTL:P3D
REFRESH-INTERVAL:P3D
CALSCALE:GREGORIAN
BEGIN:VEVENT
DTSTART:20220414T223000Z
DTEND:20220415T000000Z
X-MICROSOFT-CDO-ALLDAYEVENT:FALSE
SUMMARY:Candidate Forum
DESCRIPTION:Today's Candidate debates will be live streamed from our Facebook page starting at 6:30pm and continuing until the all the debates have finished. to https://www.facebook.com/NewnanCowetaChamber\n\n \n\n	\n		\n			Date \n			State/Federal Election\n			District/Race\n			Candidates\n			Time\n		\n	\n	\n		\n			April 14\n			Republican\n			Georgia House District  136\n			David Jenkins (I)\n			6:30PM\n		\n		\n			Kenneth Murphy\n		\n		\n			April 14\n			Republican\n			Georgia House District 70\n			Angel Nunez\n			7:00PM\n		\n		\n			Lynn Smith (I)\n		\n		\n			April 14\n			Republican\n			U.S. Congress District 3\n			Jared Craig\n			7:30PM\n		\n		\n			Drew Ferguson (I)
X-ALT-DESC;FMTTYPE=text/html:Today&#39\;s Candidate debates will be live streamed from our Facebook page starting at 6:30pm and continuing until the all the debates have finished. to&nbsp\;<span style="font-size:18px\;"><strong><span style="font-family:calibri\,sans-serif\;"><a href="https://www.facebook.com/NewnanCowetaChamber"><span style="font-size:22px\;">https://www.facebook.com/NewnanCowetaChamber</span></a></span></strong></span><br />\n&nbsp\;\n<table border="1" cellpadding="0" cellspacing="0" style="margin-left:12.35pt\;border-collapse:collapse\;border:none\;" width="0">\n	<thead>\n		<tr style="height:28px\;">\n			<th style="width:89px\;border-top:2.25pt\;border-left:2.25pt\;border-bottom:1.0pt\;border-right:1.0pt\;border-style:solid\;background:#BFBFBF\;padding:0in 5.4pt 0in 5.4pt\;height:28px\;"><strong>Date </strong></th>\n			<th style="width:162px\;border-top:solid #0D0D0D 2.25pt\;border-left:none\;border-bottom:solid #0D0D0D 1.0pt\;border-right:solid #0D0D0D 1.0pt\;background:#BFBFBF\;padding:0in 5.4pt 0in 5.4pt\;height:28px\;"><strong>State/Federal Election</strong></th>\n			<th style="width:198px\;border-top:solid #0D0D0D 2.25pt\;border-left:none\;border-bottom:solid #0D0D0D 1.0pt\;border-right:solid #0D0D0D 1.0pt\;background:#BFBFBF\;padding:0in 5.4pt 0in 5.4pt\;height:28px\;"><strong>District/Race</strong></th>\n			<th style="width:139px\;border-top:solid #0D0D0D 2.25pt\;border-left:none\;border-bottom:solid #0D0D0D 1.0pt\;border-right:solid #0D0D0D 1.0pt\;background:#BFBFBF\;padding:0in 5.4pt 0in 5.4pt\;height:28px\;"><strong>Candidates</strong></th>\n			<th style="width:90px\;border-top:solid #0D0D0D 2.25pt\;border-left:none\;border-bottom:solid #0D0D0D 1.0pt\;border-right:solid #0D0D0D 2.25pt\;background:#BFBFBF\;padding:0in 5.4pt 0in 5.4pt\;height:28px\;"><strong>Time</strong></th>\n		</tr>\n	</thead>\n	<tbody>\n		<tr style="height:17px\;">\n			<td rowspan="2" style="width:89px\;border-top:none\;border-left:solid #0D0D0D 2.25pt\;border-bottom:solid #0D0D0D 1.0pt\;border-right:solid #0D0D0D 1.0pt\;background:white\;padding:0in 5.4pt 0in 5.4pt\;height:17px\;"><span style="font-family:calibri\,sans-serif\;"><span style="font-size:10.0pt\;">April 14</span></span></td>\n			<td rowspan="2" style="width:162px\;border-top:none\;border-left:none\;border-bottom:solid #0D0D0D 1.0pt\;border-right:solid #0D0D0D 1.0pt\;background:white\;padding:0in 5.4pt 0in 5.4pt\;height:17px\;"><span style="font-family:calibri\,sans-serif\;"><span style="font-size:10.0pt\;">Republican</span></span></td>\n			<td rowspan="2" style="width:198px\;border-top:none\;border-left:none\;border-bottom:solid #0D0D0D 1.0pt\;border-right:solid #0D0D0D 1.0pt\;background:white\;padding:0in 5.4pt 0in 5.4pt\;height:17px\;"><span style="font-family:calibri\,sans-serif\;"><span style="font-size:10.0pt\;">Georgia House District&nbsp\; 136</span></span></td>\n			<td style="width:139px\;border-top:none\;border-left:none\;border-bottom:solid #0D0D0D 1.0pt\;border-right:solid #0D0D0D 1.0pt\;background:white\;padding:0in 5.4pt 0in 5.4pt\;height:17px\;"><span style="font-family:calibri\,sans-serif\;"><span style="font-size:10.0pt\;">David Jenkins (I)</span></span></td>\n			<td rowspan="2" style="width:90px\;border-top:none\;border-left:none\;border-bottom:solid #0D0D0D 1.0pt\;border-right:solid #0D0D0D 2.25pt\;background:white\;padding:0in 5.4pt 0in 5.4pt\;height:17px\;"><span style="font-family:calibri\,sans-serif\;"><span style="font-size:10.0pt\;">6:30PM</span></span></td>\n		</tr>\n		<tr style="height:17px\;">\n			<td style="width:139px\;border-top:none\;border-left:none\;border-bottom:solid #0D0D0D 1.0pt\;border-right:solid #0D0D0D 1.0pt\;background:white\;padding:0in 5.4pt 0in 5.4pt\;height:17px\;"><span style="font-family:calibri\,sans-serif\;"><span style="font-size:10.0pt\;">Kenneth Murphy</span></span></td>\n		</tr>\n		<tr style="height:17px\;">\n			<td rowspan="2" style="width:89px\;border-top:none\;border-left:solid #0D0D0D 2.25pt\;border-bottom:solid #0D0D0D 1.0pt\;border-right:solid #0D0D0D 1.0pt\;background:#F2F2F2\;padding:0in 5.4pt 0in 5.4pt\;height:17px\;"><span style="font-family:calibri\,sans-serif\;"><span style="font-size:10.0pt\;">April 14</span></span></td>\n			<td rowspan="2" style="width:162px\;border-top:none\;border-left:none\;border-bottom:solid #0D0D0D 1.0pt\;border-right:solid #0D0D0D 1.0pt\;background:#F2F2F2\;padding:0in 5.4pt 0in 5.4pt\;height:17px\;"><span style="font-family:calibri\,sans-serif\;"><span style="font-size:10.0pt\;">Republican</span></span></td>\n			<td rowspan="2" style="width:198px\;border-top:none\;border-left:none\;border-bottom:solid #0D0D0D 1.0pt\;border-right:solid #0D0D0D 1.0pt\;background:#F2F2F2\;padding:0in 5.4pt 0in 5.4pt\;height:17px\;"><span style="font-family:calibri\,sans-serif\;"><span style="font-size:10.0pt\;">Georgia House District 70</span></span></td>\n			<td style="width:139px\;border-top:none\;border-left:none\;border-bottom:solid #0D0D0D 1.0pt\;border-right:solid #0D0D0D 1.0pt\;background:#F2F2F2\;padding:0in 5.4pt 0in 5.4pt\;height:17px\;vertical-align:top\;"><span style="font-family:calibri\,sans-serif\;"><span style="font-size:10.0pt\;">Angel Nunez</span></span></td>\n			<td rowspan="2" style="width:90px\;border-top:none\;border-left:none\;border-bottom:solid #0D0D0D 1.0pt\;border-right:solid #0D0D0D 2.25pt\;background:#F2F2F2\;padding:0in 5.4pt 0in 5.4pt\;height:17px\;"><span style="font-family:calibri\,sans-serif\;"><span style="font-size:10.0pt\;">7:00PM</span></span></td>\n		</tr>\n		<tr style="height:17px\;">\n			<td style="width:139px\;border-top:none\;border-left:none\;border-bottom:solid #0D0D0D 1.0pt\;border-right:solid #0D0D0D 1.0pt\;background:#F2F2F2\;padding:0in 5.4pt 0in 5.4pt\;height:17px\;vertical-align:top\;"><span style="font-family:calibri\,sans-serif\;"><span style="font-size:10.0pt\;">Lynn Smith (I)</span></span></td>\n		</tr>\n		<tr style="height:17px\;">\n			<td rowspan="2" style="width:89px\;border-top:none\;border-left:solid #0D0D0D 2.25pt\;border-bottom:solid #0D0D0D 2.25pt\;border-right:solid #0D0D0D 1.0pt\;background:white\;padding:0in 5.4pt 0in 5.4pt\;height:17px\;"><span style="font-family:calibri\,sans-serif\;"><span style="font-size:10.0pt\;">April 14</span></span></td>\n			<td rowspan="2" style="width:162px\;border-top:none\;border-left:none\;border-bottom:solid #0D0D0D 2.25pt\;border-right:solid #0D0D0D 1.0pt\;background:white\;padding:0in 5.4pt 0in 5.4pt\;height:17px\;"><span style="font-family:calibri\,sans-serif\;"><span style="font-size:10.0pt\;">Republican</span></span></td>\n			<td rowspan="2" style="width:198px\;border-top:none\;border-left:none\;border-bottom:solid #0D0D0D 2.25pt\;border-right:solid #0D0D0D 1.0pt\;background:white\;padding:0in 5.4pt 0in 5.4pt\;height:17px\;"><span style="font-family:calibri\,sans-serif\;"><span style="font-size:10.0pt\;">U.S. Congress District 3</span></span></td>\n			<td style="width:139px\;border-top:none\;border-left:none\;border-bottom:solid windowtext 1.0pt\;border-right:solid #0D0D0D 1.0pt\;padding:0in 5.4pt 0in 5.4pt\;height:17px\;vertical-align:top\;"><span style="font-family:calibri\,sans-serif\;"><span style="font-size:10.0pt\;">Jared Craig</span></span></td>\n			<td rowspan="2" style="width:90px\;border-top:none\;border-left:none\;border-bottom:solid #0D0D0D 2.25pt\;border-right:solid #0D0D0D 2.25pt\;background:white\;padding:0in 5.4pt 0in 5.4pt\;height:17px\;"><span style="font-family:calibri\,sans-serif\;"><span style="font-size:10.0pt\;">7:30PM</span></span></td>\n		</tr>\n		<tr style="height:11px\;">\n			<td style="width:139px\;border-top:none\;border-left:none\;border-bottom:solid #0D0D0D 2.25pt\;border-right:solid #0D0D0D 1.0pt\;background:white\;padding:0in 5.4pt 0in 5.4pt\;height:11px\;"><span style="font-family:calibri\,sans-serif\;"><span style="font-size:10.0pt\;">Drew Ferguson (I)</span></span></td>\n		</tr>\n	</tbody>\n</table>\n&nbsp\;\n\n<div style="clear:both\;">&nbsp\;</div>\n
LOCATION:Not open to the public. View live stream\; tape (once sent to the Chamber)\, will be available on our website - www.newnancowetachamber.org
UID:e.468.18378
SEQUENCE:3
DTSTAMP:20260424T173709Z
URL:https://www.newnancowetachamber.org/events/details/candidate-forum-18378
END:VEVENT

END:VCALENDAR
