BEGIN:VCALENDAR
VERSION:2.0
PRODID:-//ChamberMaster//Event Calendar 2.0//EN
METHOD:PUBLISH
X-PUBLISHED-TTL:P3D
REFRESH-INTERVAL:P3D
CALSCALE:GREGORIAN
BEGIN:VEVENT
DTSTART:20240410T153000Z
DTEND:20240410T170000Z
X-MICROSOFT-CDO-ALLDAYEVENT:FALSE
SUMMARY:Catalyst Lunch Series
DESCRIPTION:Looking for a way to nourish your mind and meet local thought leaders in our community? Look no further than the Catalyst Series! During the Catalyst Lunch Series\, Chamber President and CEO Candace Boothby interviews some of the brightest minds in our community in a casual environment over a delicious lunch. Join us for insightful discussions\, fascinating perspectives\, and a chance to network with others who are passionate about learning and growth. \n\n\n\nThis month's featured guest is Chris Stephens\, with Coweta-Fayette EMC. Space is limited\, so register today!
X-ALT-DESC;FMTTYPE=text/html:Looking for a way to nourish your mind and meet local thought leaders in our community? Look no further than the Catalyst Series! During the Catalyst Lunch Series\, Chamber President and CEO Candace Boothby interviews some of the brightest minds in our community in a casual environment over a delicious lunch. Join us for insightful discussions\, fascinating perspectives\, and a chance to network with others who are passionate about learning and growth.&nbsp\;<br />\n<br />\nThis month&#39\;s featured guest is Chris Stephens\, with Coweta-Fayette EMC. Space is limited\, so register today!
LOCATION:The Chamber 23 Bullsboro Drive Newnan\, GA 30263
UID:e.468.20307
SEQUENCE:3
DTSTAMP:20260419T154231Z
URL:https://www.newnancowetachamber.org/events/details/catalyst-lunch-series-20307
END:VEVENT

END:VCALENDAR
