BEGIN:VCALENDAR
VERSION:2.0
PRODID:-//ChamberMaster//Event Calendar 2.0//EN
METHOD:PUBLISH
X-PUBLISHED-TTL:P3D
REFRESH-INTERVAL:P3D
CALSCALE:GREGORIAN
BEGIN:VEVENT
DTSTART:20231108T163000Z
DTEND:20231108T180000Z
X-MICROSOFT-CDO-ALLDAYEVENT:FALSE
SUMMARY:Catalyst Series
DESCRIPTION:Looking for a way to nourish your mind and meet local thought leaders in our community? Look no further than the Catalyst Series! Every second Wednesday of the month\, beginning in June\, Chamber President and CEO Candace Boothby interviews some of the brightest minds in our community in a casual environment over a delicious lunch. Join us for insightful discussions\, fascinating perspectives\, and a chance to network with others who are passionate about learning and growth. \n\nWe're pleased to welcome the following Catalysts in the launch of this thoughtful series:\n\nJune: Dr. Brendan B. Kelly\, University of West Georgia\n\nAugust: Sheriff Lenn Wood\, Coweta County \n\nSeptember: Keith Robinson\, Dunaway Gardens\n\nOctober: Michael Robertson\, Piedmont Newnan Hospital\n\nNovember: Keith Brady\, Mayor of City of Newnan\n\n\n\nFeeding your mind has never tasted so good! So\, if you're ready to expand your horizons and gain unique insights into the world around you\, join us at the Chamber for the Catalyst Series. Space is limited\, so register today!
X-ALT-DESC;FMTTYPE=text/html:<p>Looking for a way to nourish your mind and meet local thought leaders in our community? Look no further than the Catalyst Series! Every second Wednesday of the month\, beginning in June\, Chamber President and CEO Candace Boothby interviews some of the brightest minds in our community in a casual environment over a delicious lunch. Join us for insightful discussions\, fascinating perspectives\, and a chance to network with others who are passionate about learning and growth.&nbsp\;</p>\n\n<p>We&#39\;re pleased to welcome the following Catalysts in the launch of this thoughtful series:<br />\nJune: <a href="https://www.westga.edu/administration/president/biography.php">Dr. Brendan B. Kelly\, University of West Georgia</a><br />\nAugust: <a href="https://www.coweta.ga.us/departments-services/sheriff-s-office">Sheriff Lenn Wood\, Coweta County</a>&nbsp\;<br />\nSeptember: <a href="https://www.times-herald.com/news/local/dunaway-gardens-set-to-return/article_fa9ba6a6-a780-5bdd-a4ce-79b3a4e2995a.html">Keith Robinson\, Dunaway Gardens</a><br />\nOctober: <a href="https://www.piedmont.org/locations/piedmont-newnan/pnh-board-of-directors">Michael Robertson\, Piedmont Newnan Hospital</a><br />\n<span style="background-color:#FFFF00\;">November:</span><a href="https://newnanga.gov/283/Mayors-Office"><span style="background-color:#FFFF00\;"> Keith Brady\, Mayor of City of Newnan</span></a><br />\n<br />\nFeeding your mind has never tasted so good! So\, if you&#39\;re ready to expand your horizons and gain unique insights into the world around you\, join us at the Chamber for the Catalyst Series. Space is limited\, so register today!</p>\n
LOCATION:Newnan-Coweta Chamber of Commerce 23 Bullsboro Drive Newnan\, GA 30263
UID:e.468.19157
SEQUENCE:3
DTSTAMP:20260420T001510Z
URL:https://www.newnancowetachamber.org/events/details/catalyst-series-19157
END:VEVENT

END:VCALENDAR
