BEGIN:VCALENDAR
VERSION:2.0
PRODID:-//ChamberMaster//Event Calendar 2.0//EN
METHOD:PUBLISH
X-PUBLISHED-TTL:P3D
REFRESH-INTERVAL:P3D
CALSCALE:GREGORIAN
BEGIN:VEVENT
DTSTART:20240814T153000Z
DTEND:20240814T170000Z
X-MICROSOFT-CDO-ALLDAYEVENT:FALSE
SUMMARY:Catalyst Series
DESCRIPTION:Looking for a way to nourish your mind and meet local thought leaders in our community? Look no further than the Catalyst Series! Every other month\, Chamber President and CEO Candace Boothby interviews some of the brightest minds in our community in a casual environment over a delicious lunch. Join us for insightful discussions\, fascinating perspectives\, and a chance to network with others who are passionate about learning and growth. \n\n\n\nFeeding your mind has never tasted so good! So\, if you're ready to expand your horizons and gain unique insights into the world around you\, join us at the Chamber for the Catalyst Series. Space is limited\, so register today!
X-ALT-DESC;FMTTYPE=text/html:<p>Looking for a way to nourish your mind and meet local thought leaders in our community? Look no further than the Catalyst Series! Every other month\, Chamber President and CEO Candace Boothby interviews some of the brightest minds in our community in a casual environment over a delicious lunch. Join us for insightful discussions\, fascinating perspectives\, and a chance to network with others who are passionate about learning and growth.&nbsp\;<br />\n<br />\nFeeding your mind has never tasted so good! So\, if you&#39\;re ready to expand your horizons and gain unique insights into the world around you\, join us at the Chamber for the Catalyst Series. Space is limited\, so register today!</p>\n
LOCATION:Newnan-Coweta Chamber 23 Bullsboro Drive Newnan\, GA 30263
UID:e.468.20325
SEQUENCE:3
DTSTAMP:20260420T033527Z
URL:https://www.newnancowetachamber.org/events/details/catalyst-series-20325
END:VEVENT

END:VCALENDAR
