BEGIN:VCALENDAR
VERSION:2.0
PRODID:-//ChamberMaster//Event Calendar 2.0//EN
METHOD:PUBLISH
X-PUBLISHED-TTL:P3D
REFRESH-INTERVAL:P3D
CALSCALE:GREGORIAN
BEGIN:VEVENT
DTSTART:20220511T193000Z
DTEND:20220511T210000Z
X-MICROSOFT-CDO-ALLDAYEVENT:FALSE
SUMMARY:Chamber Board of Director's Meeting
DESCRIPTION:Monthly Board meeting.
X-ALT-DESC;FMTTYPE=text/html:Monthly Board meeting.
LOCATION:
UID:e.468.16913
SEQUENCE:3
DTSTAMP:20260424T154511Z
URL:https://www.newnancowetachamber.org/events/details/chamber-board-of-director-s-meeting-05-11-2022-16913
END:VEVENT

END:VCALENDAR
