BEGIN:VCALENDAR
VERSION:2.0
PRODID:-//ChamberMaster//Event Calendar 2.0//EN
METHOD:PUBLISH
X-PUBLISHED-TTL:P3D
REFRESH-INTERVAL:P3D
CALSCALE:GREGORIAN
BEGIN:VEVENT
DTSTART:20220608T193000Z
DTEND:20220608T210000Z
X-MICROSOFT-CDO-ALLDAYEVENT:FALSE
SUMMARY:Chamber Board of Director's Meeting
DESCRIPTION:Monthly Board meeting.
X-ALT-DESC;FMTTYPE=text/html:Monthly Board meeting.
LOCATION:
UID:e.468.16914
SEQUENCE:3
DTSTAMP:20260424T135604Z
URL:https://www.newnancowetachamber.org/events/details/chamber-board-of-director-s-meeting-06-08-2022-16914
END:VEVENT

END:VCALENDAR
