BEGIN:VCALENDAR
VERSION:2.0
PRODID:-//ChamberMaster//Event Calendar 2.0//EN
METHOD:PUBLISH
X-PUBLISHED-TTL:P3D
REFRESH-INTERVAL:P3D
CALSCALE:GREGORIAN
BEGIN:VEVENT
DTSTART:20240814T193000Z
DTEND:20240814T210000Z
X-MICROSOFT-CDO-ALLDAYEVENT:FALSE
SUMMARY:Chamber Board of Director's Meeting/Carrollton UWG
DESCRIPTION:Monthly Board meeting.
X-ALT-DESC;FMTTYPE=text/html:Monthly Board meeting.
LOCATION:Carrollton
UID:e.468.16940
SEQUENCE:3
DTSTAMP:20260420T035048Z
URL:https://www.newnancowetachamber.org/events/details/chamber-board-of-director-s-meeting-carrollton-uwg-16940
END:VEVENT

END:VCALENDAR
