BEGIN:VCALENDAR
VERSION:2.0
PRODID:-//ChamberMaster//Event Calendar 2.0//EN
METHOD:PUBLISH
X-PUBLISHED-TTL:P3D
REFRESH-INTERVAL:P3D
CALSCALE:GREGORIAN
BEGIN:VEVENT
DTSTART:20211103T210000Z
DTEND:20211103T230000Z
X-MICROSOFT-CDO-ALLDAYEVENT:FALSE
SUMMARY:Chamber Champion Alliance Holiday Celebration
DESCRIPTION:This meeting consists of our Holiday Appreciation Celebration for our Chamber Champion Alliance Members!
X-ALT-DESC;FMTTYPE=text/html:<span style="font-size:14px\;"><span style="font-family:tahoma\;">This meeting consists of our Holiday Appreciation Celebration for our Chamber Champion Alliance Members!</span></span>
LOCATION:TBD
UID:e.468.17291
SEQUENCE:3
DTSTAMP:20260425T013421Z
URL:https://www.newnancowetachamber.org/events/details/chamber-champion-alliance-holiday-celebration-17291
END:VEVENT

END:VCALENDAR
