BEGIN:VCALENDAR
VERSION:2.0
PRODID:-//ChamberMaster//Event Calendar 2.0//EN
METHOD:PUBLISH
X-PUBLISHED-TTL:P3D
REFRESH-INTERVAL:P3D
CALSCALE:GREGORIAN
BEGIN:VEVENT
DTSTART:20211005T143000Z
DTEND:20211005T153000Z
X-MICROSOFT-CDO-ALLDAYEVENT:FALSE
SUMMARY:Chamber Champion Alliance Meeting
DESCRIPTION:
X-ALT-DESC;FMTTYPE=text/html:
LOCATION:The Chamber 23 Bullsboro Drive | Newnan
UID:e.468.17290
SEQUENCE:3
DTSTAMP:20260425T031436Z
URL:https://www.newnancowetachamber.org/events/details/chamber-champion-alliance-meeting-10-05-2021-17290
END:VEVENT

END:VCALENDAR
