BEGIN:VCALENDAR
VERSION:2.0
PRODID:-//ChamberMaster//Event Calendar 2.0//EN
METHOD:PUBLISH
X-PUBLISHED-TTL:P3D
REFRESH-INTERVAL:P3D
CALSCALE:GREGORIAN
BEGIN:VEVENT
DTSTART:20240423T133000Z
DTEND:20240423T143000Z
X-MICROSOFT-CDO-ALLDAYEVENT:FALSE
SUMMARY:Chamber Champions Meeting
DESCRIPTION:Monthly Chamber Champions meeting.
X-ALT-DESC;FMTTYPE=text/html:Monthly Chamber Champions meeting.
LOCATION:
UID:e.468.19972
SEQUENCE:3
DTSTAMP:20260419T154419Z
URL:https://www.newnancowetachamber.org/events/details/chamber-champions-04-16-2024-19972
END:VEVENT

END:VCALENDAR
