BEGIN:VCALENDAR
VERSION:2.0
PRODID:-//ChamberMaster//Event Calendar 2.0//EN
METHOD:PUBLISH
X-PUBLISHED-TTL:P3D
REFRESH-INTERVAL:P3D
CALSCALE:GREGORIAN
BEGIN:VEVENT
DTSTART:20240514T133000Z
DTEND:20240514T143000Z
X-MICROSOFT-CDO-ALLDAYEVENT:FALSE
SUMMARY:Chamber Champions Meeting
DESCRIPTION:Monthly Chamber Champions meeting.
X-ALT-DESC;FMTTYPE=text/html:Monthly Chamber Champions meeting.
LOCATION:
UID:e.468.19973
SEQUENCE:3
DTSTAMP:20260420T001629Z
URL:https://www.newnancowetachamber.org/events/details/chamber-champions-05-21-2024-19973
END:VEVENT

END:VCALENDAR
