BEGIN:VCALENDAR
VERSION:2.0
PRODID:-//ChamberMaster//Event Calendar 2.0//EN
METHOD:PUBLISH
X-PUBLISHED-TTL:P3D
REFRESH-INTERVAL:P3D
CALSCALE:GREGORIAN
BEGIN:VEVENT
DTSTART:20220921T130000Z
DTEND:20220921T143000Z
X-MICROSOFT-CDO-ALLDAYEVENT:FALSE
SUMMARY:Chamber Champions Alliance Meeting
DESCRIPTION:Monthly meeting for members of our Chamber Champions Alliance.
X-ALT-DESC;FMTTYPE=text/html:<span style="font-size:14px\;"><span style="font-family:tahoma\;">Monthly meeting for members of our Chamber Champions Alliance.&nbsp\;&nbsp\;</span></span>&nbsp\;&nbsp\;&nbsp\;
LOCATION:The Chamber 23 Bullsboro Drive
UID:e.468.18172
SEQUENCE:3
DTSTAMP:20260422T222129Z
URL:https://www.newnancowetachamber.org/events/details/chamber-champions-alliance-meeting-09-21-2022-18172
END:VEVENT

END:VCALENDAR
