BEGIN:VCALENDAR
VERSION:2.0
PRODID:-//ChamberMaster//Event Calendar 2.0//EN
METHOD:PUBLISH
X-PUBLISHED-TTL:P3D
REFRESH-INTERVAL:P3D
CALSCALE:GREGORIAN
BEGIN:VEVENT
DTSTART:20200916T180000Z
DTEND:20200916T190000Z
X-MICROSOFT-CDO-ALLDAYEVENT:FALSE
SUMMARY:Chamber Tomorrow Committee Meeting
DESCRIPTION:Chamber Tomorrow Task Force Committee Meeting
X-ALT-DESC;FMTTYPE=text/html:Chamber Tomorrow Task Force Committee Meeting
LOCATION:
UID:e.468.16525
SEQUENCE:3
DTSTAMP:20260426T011437Z
URL:https://www.newnancowetachamber.org/events/details/chamber-tomorrow-committee-meeting-09-09-2020-16525
END:VEVENT

END:VCALENDAR
