BEGIN:VCALENDAR
VERSION:2.0
PRODID:-//ChamberMaster//Event Calendar 2.0//EN
METHOD:PUBLISH
X-PUBLISHED-TTL:P3D
REFRESH-INTERVAL:P3D
CALSCALE:GREGORIAN
BEGIN:VEVENT
DTSTART:20201111T190000Z
DTEND:20201111T200000Z
X-MICROSOFT-CDO-ALLDAYEVENT:FALSE
SUMMARY:Chamber Tomorrow Committee Meeting
DESCRIPTION:
X-ALT-DESC;FMTTYPE=text/html:
LOCATION:
UID:e.468.16529
SEQUENCE:3
DTSTAMP:20260425T203656Z
URL:https://www.newnancowetachamber.org/events/details/chamber-tomorrow-committee-meeting-11-04-2020-16529
END:VEVENT

END:VCALENDAR
