BEGIN:VCALENDAR
VERSION:2.0
PRODID:-//ChamberMaster//Event Calendar 2.0//EN
METHOD:PUBLISH
X-PUBLISHED-TTL:P3D
REFRESH-INTERVAL:P3D
CALSCALE:GREGORIAN
BEGIN:VEVENT
DTSTART:20210224T190000Z
DTEND:20210224T200000Z
X-MICROSOFT-CDO-ALLDAYEVENT:FALSE
SUMMARY:Chamber Tomorrow Committee Meeting
DESCRIPTION:Chamber Tomorrow Task Force Committee Meeting
X-ALT-DESC;FMTTYPE=text/html:Chamber Tomorrow Task Force Committee Meeting
LOCATION:Virtual
UID:e.468.16979
SEQUENCE:3
DTSTAMP:20260425T161255Z
URL:https://www.newnancowetachamber.org/events/details/chamber-tomorrow-committee-meeting-16979
END:VEVENT

END:VCALENDAR
