BEGIN:VCALENDAR
VERSION:2.0
PRODID:-//ChamberMaster//Event Calendar 2.0//EN
METHOD:PUBLISH
X-PUBLISHED-TTL:P3D
REFRESH-INTERVAL:P3D
CALSCALE:GREGORIAN
BEGIN:VEVENT
DTSTART:20210127T203000Z
DTEND:20210127T213000Z
X-MICROSOFT-CDO-ALLDAYEVENT:FALSE
SUMMARY:Chamber Tomorrow Committee Meeting (Virtual)
DESCRIPTION:Virtual Zoom call.  Contact us if interested in participating.
X-ALT-DESC;FMTTYPE=text/html:<span style="color: rgb(68\, 68\, 68)\; font-family: Calibri\, Verdana\, Geneva\, sans-serif\; font-size: 16px\;">Virtual Zoom call.&nbsp\; Contact us if interested in participating.</span>
LOCATION:
UID:e.468.16535
SEQUENCE:3
DTSTAMP:20260425T175347Z
URL:https://www.newnancowetachamber.org/events/details/chamber-tomorrow-committee-meeting-virtual-01-27-2021-16535
END:VEVENT

END:VCALENDAR
