BEGIN:VCALENDAR
VERSION:2.0
PRODID:-//ChamberMaster//Event Calendar 2.0//EN
METHOD:PUBLISH
X-PUBLISHED-TTL:P3D
REFRESH-INTERVAL:P3D
CALSCALE:GREGORIAN
BEGIN:VEVENT
DTSTART:20220428T213000Z
DTEND:20220428T230000Z
X-MICROSOFT-CDO-ALLDAYEVENT:FALSE
SUMMARY:Connections in The Courtyard
DESCRIPTION:Join the Newnan-Coweta Chamber and our generous sponsor\, Champion Cleaning Systems for a casual\, monthly after-hours event hosted in the Chamber's intimate courtyard. This month we are thrilled to offer food from Jim 'N Nick's Community Bar-B-Q and dessert from Cakes by Debbie. Open to current and future Chamber members\, attendees are encouraged to invite a guest!
X-ALT-DESC;FMTTYPE=text/html:<span style="font-size:14px\;"><span style="font-family:tahoma\;"><span style="color:#202020\;">Join the Newnan-Coweta Chamber and our generous sponsor\, Champion Cleaning Systems for a casual\, monthly after-hours event hosted in the Chamber&#39\;s intimate courtyard. </span></span></span><font color="#202020" face="tahoma"><span style="caret-color: rgb(32\, 32\, 32)\; font-size: 14px\;">This month we are thrilled to offer food&nbsp\;from Jim &#39\;N Nick&#39\;s Community Bar-B-Q and dessert from Cakes by Debbie. Open to current and future Chamber members\, attendees are encouraged to invite a guest!</span></font>
LOCATION:23 Bullsboro Dr | Newnan (Parking available across the street and next door to the Chamber)
UID:e.468.18217
SEQUENCE:3
DTSTAMP:20260424T174044Z
URL:https://www.newnancowetachamber.org/events/details/connections-in-the-courtyard-04-28-2022-18217
END:VEVENT

END:VCALENDAR
