BEGIN:VCALENDAR
VERSION:2.0
PRODID:-//ChamberMaster//Event Calendar 2.0//EN
METHOD:PUBLISH
X-PUBLISHED-TTL:P3D
REFRESH-INTERVAL:P3D
CALSCALE:GREGORIAN
BEGIN:VEVENT
DTSTART:20210318T210000Z
DTEND:20210318T223000Z
X-MICROSOFT-CDO-ALLDAYEVENT:FALSE
SUMMARY:Connections in The Courtyard
DESCRIPTION:Join the Newnan-Coweta Chamber\, the Hospitality Alliance\, and our generous sponsors for a casual\, monthly after-hours event hosted in the Chamber's intimate courtyard. Each month\, we'll offer a light meal/appetizers\, beer\, and wine\, as well as an opportunity to mix and mingle in a relaxed\, open air setting.  Open to current and future Chamber members\, attendees are invited to bring a guest!\n\n\n\nThe Newnan-Coweta Chamber Hospitality Alliance offers thanks to United Bank\, Standard Office Systems\, Southern Vein Care\, United Community Bank\, and The Mad Mexican for their generous support of Connections in the Courtyard!
X-ALT-DESC;FMTTYPE=text/html:<span style="font-size:14px\;"><span style="font-family:tahoma\;"><span style="color:#202020\;">Join the Newnan-Coweta Chamber\, the Hospitality Alliance\, and our generous sponsors for a casual\, monthly after-hours event hosted in the Chamber&#39\;s intimate courtyard. Each month\, we&#39\;ll offer a light meal/appetizers\, beer\, and wine\, as well as an opportunity to mix and mingle in a relaxed\, open air setting.&nbsp\; Open to current and future Chamber members\, attendees are invited to bring a guest!<br />\n<br />\nThe Newnan-Coweta Chamber Hospitality Alliance offers thanks to United Bank\, Standard Office Systems\, Southern Vein Care\, United Community Bank\, and The Mad Mexican for their generous support of Connections in the Courtyard!</span></span></span>
LOCATION:23 Bullsboro Dr | Newnan (Parking available across the street and next door to the Chamber)
UID:e.468.17228
SEQUENCE:3
DTSTAMP:20260425T161148Z
URL:https://www.newnancowetachamber.org/events/details/connections-in-the-courtyard-17228
END:VEVENT

END:VCALENDAR
