BEGIN:VCALENDAR
VERSION:2.0
PRODID:-//ChamberMaster//Event Calendar 2.0//EN
METHOD:PUBLISH
X-PUBLISHED-TTL:P3D
REFRESH-INTERVAL:P3D
CALSCALE:GREGORIAN
BEGIN:VEVENT
DTSTART:20221027T213000Z
DTEND:20221027T230000Z
X-MICROSOFT-CDO-ALLDAYEVENT:FALSE
SUMMARY:Connections in The Courtyard
DESCRIPTION:Join the Newnan-Coweta Chamber and our generous co-sponsor\, Resource MFG for a casual\, monthly after-hours event hosted in the Chamber's intimate courtyard. This month we are thrilled to offer food from Coweta Crossroads Chick-fil-A and dessert from Nothing Bundt Cakes! Admission is $10 and open to current and future Chamber members\, attendees are encouraged to invite a guest!
X-ALT-DESC;FMTTYPE=text/html:<span style="caret-color: rgb(5\, 5\, 5)\; color: rgb(5\, 5\, 5)\; font-family: tahoma\; font-size: 14px\;">Join the Newnan-Coweta Chamber and our generous co-sponsor\, </span><span style="font-size:14px\;"><span style="font-family:tahoma\;"><span style="caret-color: rgb(0\, 0\, 0)\;">Resource MFG</span></span></span><span style="caret-color: rgb(5\, 5\, 5)\; color: rgb(5\, 5\, 5)\; font-family: tahoma\; font-size: 14px\;">&nbsp\;for a casual\, monthly after-hours event hosted in the Chamber&#39\;s intimate courtyard. This month we are thrilled to offer food from Coweta Crossroads Chick-fil-A and dessert from Nothing Bundt Cakes! Admission is $10 and open to current and future Chamber members\, attendees are encouraged to invite a guest!</span>
LOCATION:The Chamber 23 Bullsboro Drive | Newnan
UID:e.468.18291
SEQUENCE:3
DTSTAMP:20260422T202952Z
URL:https://www.newnancowetachamber.org/events/details/connections-in-the-courtyard-18291
END:VEVENT

END:VCALENDAR
