BEGIN:VCALENDAR
VERSION:2.0
PRODID:-//ChamberMaster//Event Calendar 2.0//EN
METHOD:PUBLISH
X-PUBLISHED-TTL:P3D
REFRESH-INTERVAL:P3D
CALSCALE:GREGORIAN
BEGIN:VEVENT
DTSTART:20240808T220000Z
DTEND:20240808T233000Z
X-MICROSOFT-CDO-ALLDAYEVENT:FALSE
SUMMARY:Cosmo Club
DESCRIPTION:Back by popular demand\, Cosmo Club evenings are welcome to anyone interested in making connections in a relaxed environment. While billed as an event for our Chamber Ladies\, certainly everyone is welcome. Admission includes one specialty Cosmopolitan cocktail and light hors d'eouvres\; a cash bar will be available for any additional beverages.
X-ALT-DESC;FMTTYPE=text/html:Back by popular demand\, Cosmo Club evenings are welcome to anyone interested in making connections in a relaxed environment. While billed as an event for our Chamber Ladies\, certainly everyone is welcome. Admission includes one specialty Cosmopolitan cocktail and light hors d&#39\;eouvres\; a cash bar will be available for any additional beverages.
LOCATION:Newnan Country Club 1356 US-29\, Newnan\, GA 30263
UID:e.468.20507
SEQUENCE:3
DTSTAMP:20260420T033537Z
URL:https://www.newnancowetachamber.org/events/details/cosmo-club-20507
END:VEVENT

END:VCALENDAR
