BEGIN:VCALENDAR
VERSION:2.0
PRODID:-//ChamberMaster//Event Calendar 2.0//EN
METHOD:PUBLISH
X-PUBLISHED-TTL:P3D
REFRESH-INTERVAL:P3D
CALSCALE:GREGORIAN
BEGIN:VEVENT
DTSTART:20201117T200000Z
DTEND:20201117T210000Z
X-MICROSOFT-CDO-ALLDAYEVENT:FALSE
SUMMARY:Coweta Safety Alliance
DESCRIPTION:We are thrilled to announce the return of the regular\, monthly meetings of the Chamber's Coweta Safety Alliance\, beginning on November 17th at 3PM at the Coweta County Water and Sewerage Authority\, 545 Corinth Rd\, Newnan\, GA 30263. \n\n\n\nWe'll pick up right where we left off in sharing industry best-practices\, welcoming Andrea Hill\, Plant Environmental Health and Safety Manager\, from Cargill Meat Solutions as he shares the exceptional provisions put into place in ensuring the health and well-being of Cargill staff and the community at large amidst the persistent COVID-19 pandemic. \n\n\n\nWe'll also welcome David Keller\, President and Managing Director of Operations of E.G.O. of North America\, as he shares details of the efforts of the Chamber in engaging local business and industry leaders in ensuring economic recovery and resiliency via the Advancing Coweta Task Force. \n\n \nThe Coweta Safety Alliance  provides guidance and training to businesses in Coweta County. It is comprised of safety professionals who desire to share their collective knowledge to help local industry comply with OSHA regulation and ultimately keep the Coweta County workforce healthy and safe. The Safety Alliance believes that it takes the combined efforts of local companies and community resources to effectively promote safe work practices.\n\n\n\nFormed under the auspices of the Chamber\, the Coweta Safety Alliance exists to help make sure that local businesses are leading the way in keeping employees safe and preparing for natural disasters and unexpected emergencies.
X-ALT-DESC;FMTTYPE=text/html:<span style="color: rgb(33\, 33\, 33)\; font-family: wf_segoe-ui_normal\, &quot\;Segoe UI&quot\;\, &quot\;Segoe WP&quot\;\, Tahoma\, Arial\, sans-serif\, serif\, EmojiFont\; font-size: 14px\;"><span style="font-family: tahoma\, serif\, EmojiFont\;">We are thrilled to announce the return of the regular\, monthly meetings of the Chamber&#39\;s Coweta Safety Alliance\, beginning on November 17th at 3PM at the Coweta County Water and Sewerage Authority\,&nbsp\;<span style="color: rgb(34\, 34\, 34)\;"><span class="contextualExtensionHighlight ms-font-color-themePrimary ms-border-color-themePrimary ident_212_244" role="button" style="border-color: rgb(0\, 120\, 215)\; color: rgb(0\, 120\, 215)\; border-bottom-width: 1px\; border-bottom-style: dashed\; cursor: pointer\;" tabindex="0">545 Corinth Rd\, Newnan\, GA 30263</span>.&nbsp\;</span></span></span><br />\n<br />\n<span style="color: rgb(33\, 33\, 33)\; font-family: wf_segoe-ui_normal\, &quot\;Segoe UI&quot\;\, &quot\;Segoe WP&quot\;\, Tahoma\, Arial\, sans-serif\, serif\, EmojiFont\; font-size: 14px\;"><span style="font-family: tahoma\, serif\, EmojiFont\;"><span style="color: rgb(34\, 34\, 34)\;">We&#39\;ll pick up right where we left off in sharing industry&nbsp\;best-practices\, welcoming Andrea Hill\, Plant Environmental Health and Safety Manager\, from Cargill Meat Solutions as he shares the exceptional provisions put into place in ensuring the health and well-being of Cargill staff and the community at large amidst the persistent COVID-19 pandemic.&nbsp\;<br />\n<br />\nWe&#39\;ll also welcome David Keller\, President and Managing Director of Operations of E.G.O. of North America\, as he shares details of the efforts of the Chamber in engaging local business and industry leaders in ensuring economic recovery and resiliency via the Advancing Coweta Task Force.&nbsp\;</span></span></span><br />\n&nbsp\;\n<p style="box-sizing: border-box\; margin: 0px 0px 10px\; font-size: 16px\; line-height: 1.2\; color: rgb(51\, 51\, 51)\; font-family: Calibri\, Verdana\, Geneva\, sans-serif\; background-color: rgb(255\, 255\, 255)\;"><span style="box-sizing: border-box\; font-size: 14px\;"><span style="box-sizing: border-box\; font-family: tahoma\, geneva\, sans-serif\;">The Coweta Safety Alliance&nbsp\; provides guidance and training to businesses in Coweta County. It is comprised of safety professionals who desire to share their collective knowledge to help local industry comply with OSHA regulation and ultimately keep the Coweta County workforce healthy and safe. The Safety Alliance believes that it takes the combined efforts of local companies and community resources to effectively promote safe work practices.</span></span><br />\n<br />\n<span style="box-sizing: border-box\; font-size: 14px\;"><span style="box-sizing: border-box\; font-family: tahoma\, geneva\, sans-serif\;">Formed under the auspices of the Chamber\, the Coweta Safety Alliance exists to help make sure that local businesses are leading the way in&nbsp\;keeping employees safe and preparing for natural disasters and unexpected emergencies.</span></span></p>\n
LOCATION:Coweta County Water and Sewerage Authority 545 Corinth Rd. | Newnan Space is limited | A VIRTUAL option will be available for those who cannot attend in person.
UID:e.468.9984
SEQUENCE:3
DTSTAMP:20260425T220811Z
URL:https://www.newnancowetachamber.org/events/details/coweta-safety-alliance-9984
END:VEVENT

END:VCALENDAR
