BEGIN:VCALENDAR
VERSION:2.0
PRODID:-//ChamberMaster//Event Calendar 2.0//EN
METHOD:PUBLISH
X-PUBLISHED-TTL:P3D
REFRESH-INTERVAL:P3D
CALSCALE:GREGORIAN
BEGIN:VEVENT
DTSTART:20260319T180000Z
DTEND:20260319T191500Z
X-MICROSOFT-CDO-ALLDAYEVENT:FALSE
SUMMARY:Coweta Safety Alliance Meeting
DESCRIPTION:We are excited to welcome Tim Fuller\, Director of Safety for MAU Workforce Solutions.\n\n\n\nTim will be presenting High Performance Safety Culture ... What the Data Is Really Telling Us. Drawing from MAU's work across dozens of manufacturing and logistics environments\, Tim will share real world insights into what actually drives safety performance across industries\, not just what looks good on paper.\n\nHis discussion will cover:\n\n  Injury trends across multiple industries and why severity is increasing even when TRIR looks good\n\n  Why the first 60 to 90 days of employment matter most for injury prevention\n\n  Practical onboarding and training approaches that reduce early injuries\n\n  The value of near miss reporting and how top sites make it work\n\n  Fatigue\, shift related risk\, and how they show up operationally\n\n  What high performing safety cultures consistently have in common\n\nThis will be a very practical session with takeaways that can be applied immediately\, regardless of industry or company size. Tim's perspective is especially valuable given MAU's visibility across thousands of associates and worksites nationwide. We appreciate MAU Workforce Solutions allowing Tim to share his time and expertise with our group\, and we look forward to a great discussion.\n\n**Optional 45-minute tour after the meeting ends at 3:15pm.
X-ALT-DESC;FMTTYPE=text/html:We are excited to welcome <strong><span style="font-family:aptos\,sans-serif\;">Tim Fuller</span></strong>\, Director of Safety for MAU Workforce Solutions.<br />\n<br />\nTim will be presenting <strong><span style="font-family:aptos\,sans-serif\;">High Performance Safety Culture ... What the Data Is Really Telling Us</span></strong>. Drawing from MAU&rsquo\;s work across dozens of manufacturing and logistics environments\, Tim will share real world insights into what actually drives safety performance across industries\, not just what looks good on paper.<br />\nHis discussion will cover:<br />\n&bull\; Injury trends across multiple industries and why severity is increasing even when TRIR looks good<br />\n&bull\; Why the first 60 to 90 days of employment matter most for injury prevention<br />\n&bull\; Practical onboarding and training approaches that reduce early injuries<br />\n&bull\; The value of near miss reporting and how top sites make it work<br />\n&bull\; Fatigue\, shift related risk\, and how they show up operationally<br />\n&bull\; What high performing safety cultures consistently have in common<br />\nThis will be a very practical session with takeaways that can be applied immediately\, regardless of industry or company size. Tim&rsquo\;s perspective is especially valuable given MAU&rsquo\;s visibility across thousands of associates and worksites nationwide. We appreciate MAU Workforce Solutions allowing Tim to share his time and expertise with our group\, and we look forward to a great discussion.\n<p class="isselectedend"><o:p></o:p></p>\n**Optional 45-minute tour after the meeting ends at 3:15pm.&nbsp\;
LOCATION:Coweta County Water & Sewerage Authority 545 Corinth Rd | Newnan
UID:e.468.22541
SEQUENCE:3
DTSTAMP:20260422T183326Z
URL:https://www.newnancowetachamber.org/events/details/coweta-safety-alliance-meeting-22541
END:VEVENT

END:VCALENDAR
