BEGIN:VCALENDAR
VERSION:2.0
PRODID:-//ChamberMaster//Event Calendar 2.0//EN
METHOD:PUBLISH
X-PUBLISHED-TTL:P3D
REFRESH-INTERVAL:P3D
CALSCALE:GREGORIAN
BEGIN:VEVENT
DTSTART:20210126T153000Z
DTEND:20210126T163000Z
X-MICROSOFT-CDO-ALLDAYEVENT:FALSE
SUMMARY:Coweta Works Student Career Expo Virtual Info-Session #2
DESCRIPTION:Interested in participating in Coweta Works\, but not entirely sure how to proceed? Join us for a virtual program walk-through and info-session\, where we'll share platform highlights\, talk logistics and audience\, and answer your questions.\n\n\n\nMeeting registration (you will be sent confirmation and Zoom Join link after registering):\n\nhttps://zoom.us/meeting/register/tJArduitqTwoE9TMeqZCXA28_wyoDObi--nx
X-ALT-DESC;FMTTYPE=text/html:Interested in participating in Coweta Works\, but not entirely sure how to proceed? Join us for a virtual program walk-through and info-session\, where we&#39\;ll share platform highlights\, talk logistics and audience\, and answer your questions.<br />\n<br />\nMeeting registration (you will be sent confirmation and Zoom Join link after registering):<br />\n<strong style="font-size: 18px\;"><span style="font-family: Calibri\, sans-serif\;"><a href="https://zoom.us/meeting/register/tJArduitqTwoE9TMeqZCXA28_wyoDObi--nx" target="_blank">https://zoom.us/meeting/register/tJArduitqTwoE9TMeqZCXA28_wyoDObi--nx</a></span></strong>
LOCATION:Virtual (you will be sent confirmation and Zoom Join link after registering): https://zoom.us/meeting/register/tJArduitqTwoE9TMeqZCXA28_wyoDObi--nx
UID:e.468.16889
SEQUENCE:3
DTSTAMP:20260425T191745Z
URL:https://www.newnancowetachamber.org/events/details/coweta-works-student-career-expo-virtual-info-session-2-16889
END:VEVENT

END:VCALENDAR
