BEGIN:VCALENDAR
VERSION:2.0
PRODID:-//ChamberMaster//Event Calendar 2.0//EN
METHOD:PUBLISH
X-PUBLISHED-TTL:P3D
REFRESH-INTERVAL:P3D
CALSCALE:GREGORIAN
BEGIN:VEVENT
DTSTART:20210114T163000Z
DTEND:20210114T173000Z
X-MICROSOFT-CDO-ALLDAYEVENT:FALSE
SUMMARY:Coweta Works Virtual Info-Session
DESCRIPTION:Interested in participating in Coweta Works\, but not entirely sure how to proceed? Join us for a virtual program walk-through and info-session\, where we'll share platform highlights\, talk logistics and audience\, and answer your questions.\n\n\n\nMeeting registration: \nhttps://zoom.us/meeting/register/tJcvceqorj8qG9A6fMFsRPOdchkVtRQ5yKCE
X-ALT-DESC;FMTTYPE=text/html:Interested in participating in Coweta Works\, but not entirely sure how to proceed? Join us for a virtual program walk-through and info-session\, where we&#39\;ll share platform highlights\, talk logistics and audience\, and answer your questions.<br />\n<br />\nMeeting registration:&nbsp\;\n<p><span style="font-size:12.0pt\;color:black"><a href="https://zoom.us/meeting/register/tJcvceqorj8qG9A6fMFsRPOdchkVtRQ5yKCE">https://zoom.us/meeting/register/tJcvceqorj8qG9A6fMFsRPOdchkVtRQ5yKCE</a><o:p></o:p></span></p>\n
LOCATION:Virtual: https://zoom.us/meeting/register/tJcvceqorj8qG9A6fMFsRPOdchkVtRQ5yKCE
UID:e.468.16876
SEQUENCE:3
DTSTAMP:20260425T173915Z
URL:https://www.newnancowetachamber.org/events/details/coweta-works-virtual-info-session-16876
END:VEVENT

END:VCALENDAR
