BEGIN:VCALENDAR
VERSION:2.0
PRODID:-//ChamberMaster//Event Calendar 2.0//EN
METHOD:PUBLISH
X-PUBLISHED-TTL:P3D
REFRESH-INTERVAL:P3D
CALSCALE:GREGORIAN
BEGIN:VEVENT
DTSTART:20201111T223000Z
DTEND:20201112T003000Z
X-MICROSOFT-CDO-ALLDAYEVENT:FALSE
SUMMARY:Dinner with the Delegation
DESCRIPTION:By invitation only.
X-ALT-DESC;FMTTYPE=text/html:<span style="font-size:14px\;"><span style="font-family:tahoma\;">By invitation only.</span></span>
LOCATION:
UID:e.468.15561
SEQUENCE:3
DTSTAMP:20260425T203538Z
URL:https://www.newnancowetachamber.org/events/details/dinner-with-the-delegation-11-11-2020-15561
END:VEVENT

END:VCALENDAR
