BEGIN:VCALENDAR
VERSION:2.0
PRODID:-//ChamberMaster//Event Calendar 2.0//EN
METHOD:PUBLISH
X-PUBLISHED-TTL:P3D
REFRESH-INTERVAL:P3D
CALSCALE:GREGORIAN
BEGIN:VEVENT
DTSTART:20231201T133000Z
DTEND:20231201T150000Z
X-MICROSOFT-CDO-ALLDAYEVENT:FALSE
SUMMARY:Economic Prosperity Alliance 12/1/23
DESCRIPTION:Participation in the Alliance is by invitation only.
X-ALT-DESC;FMTTYPE=text/html:Participation in the Alliance is by invitation only.
LOCATION:
UID:e.468.18948
SEQUENCE:3
DTSTAMP:20260419T224542Z
URL:https://www.newnancowetachamber.org/events/details/economic-prosperity-alliance-12-1-23-18948
END:VEVENT

END:VCALENDAR
