BEGIN:VCALENDAR
VERSION:2.0
PRODID:-//ChamberMaster//Event Calendar 2.0//EN
METHOD:PUBLISH
X-PUBLISHED-TTL:P3D
REFRESH-INTERVAL:P3D
CALSCALE:GREGORIAN
BEGIN:VEVENT
DTSTART:20210507T123000Z
DTEND:20210507T133000Z
X-MICROSOFT-CDO-ALLDAYEVENT:FALSE
SUMMARY:Economic Prosperity Alliance
DESCRIPTION:Invitation only.
X-ALT-DESC;FMTTYPE=text/html:Invitation only.
LOCATION:TBD if Virtual\, In-person or Both
UID:e.468.17224
SEQUENCE:3
DTSTAMP:20260425T112713Z
URL:https://www.newnancowetachamber.org/events/details/economic-prosperity-alliance-17224
END:VEVENT

END:VCALENDAR
